BEGIN:VCALENDAR
VERSION:2.0
PRODID:-//Ranken Technical College - ECPv6.15.20//NONSGML v1.0//EN
CALSCALE:GREGORIAN
METHOD:PUBLISH
X-ORIGINAL-URL:https://ranken.edu
X-WR-CALDESC:Events for Ranken Technical College
REFRESH-INTERVAL;VALUE=DURATION:PT1H
X-Robots-Tag:noindex
X-PUBLISHED-TTL:PT1H
BEGIN:VTIMEZONE
TZID:America/Chicago
BEGIN:DAYLIGHT
TZOFFSETFROM:-0600
TZOFFSETTO:-0500
TZNAME:CDT
DTSTART:20260308T080000
END:DAYLIGHT
BEGIN:STANDARD
TZOFFSETFROM:-0500
TZOFFSETTO:-0600
TZNAME:CST
DTSTART:20261101T070000
END:STANDARD
BEGIN:DAYLIGHT
TZOFFSETFROM:-0600
TZOFFSETTO:-0500
TZNAME:CDT
DTSTART:20270314T080000
END:DAYLIGHT
BEGIN:STANDARD
TZOFFSETFROM:-0500
TZOFFSETTO:-0600
TZNAME:CST
DTSTART:20271107T070000
END:STANDARD
BEGIN:DAYLIGHT
TZOFFSETFROM:-0600
TZOFFSETTO:-0500
TZNAME:CDT
DTSTART:20280312T080000
END:DAYLIGHT
BEGIN:STANDARD
TZOFFSETFROM:-0500
TZOFFSETTO:-0600
TZNAME:CST
DTSTART:20281105T070000
END:STANDARD
END:VTIMEZONE
BEGIN:VEVENT
DTSTART;VALUE=DATE:20270510
DTEND;VALUE=DATE:20270511
DTSTAMP:20260421T201719
CREATED:20260209T022106Z
LAST-MODIFIED:20260209T022106Z
UID:10001142-1809907200-1809993599@ranken.edu
SUMMARY:Summer Semester Begins (Online I\, M/W Eve)
DESCRIPTION:Summer Semester Begins (Online I\, M/W Eve)
URL:https://ranken.edu/event/summer-semester-begins-online-i-m-w-eve-2/
LOCATION:Ranken – Central MO\, 975 Perry Avenue\, Ashland\, MO\, 65010\, United States
CATEGORIES:Ranken's Calendar,Student Events,Ranken St. Louis,Ranken West,Ranken Southeast,Ranken Central MO
ATTACH;FMTTYPE=image/png:https://ranken.edu/wp-content/uploads/2026/02/Calendar-Summer-Start-MW-Eve.png
GEO:38.766329865225;-92.251480558212
X-APPLE-STRUCTURED-LOCATION;VALUE=URI;X-ADDRESS=Ranken – Central MO 975 Perry Avenue Ashland MO 65010 United States;X-APPLE-RADIUS=500;X-TITLE=975 Perry Avenue:geo:-92.251480558212,38.766329865225
END:VEVENT
BEGIN:VEVENT
DTSTART;TZID=America/Chicago:20270510T090000
DTEND;TZID=America/Chicago:20270510T103000
DTSTAMP:20260421T201719
CREATED:20260209T022239Z
LAST-MODIFIED:20260209T170706Z
UID:10001143-1809939600-1809945000@ranken.edu
SUMMARY:Ranken Ready (Summer 2026 starts) - STL Automotive\, Electrical
DESCRIPTION:Ranken Ready (Summer 2026 starts) – STL Automotive\, Electrical
URL:https://ranken.edu/event/ranken-ready-summer-2026-starts-stl-automotive-electrical/
LOCATION:Virtual (Online)
CATEGORIES:Ranken's Calendar,Student Events,Ranken St. Louis,New Student Orientation
ATTACH;FMTTYPE=image/png:https://ranken.edu/wp-content/uploads/2025/05/Calendar-Ranken-Ready-General.png
END:VEVENT
BEGIN:VEVENT
DTSTART;VALUE=DATE:20270511
DTEND;VALUE=DATE:20270512
DTSTAMP:20260421T201719
CREATED:20260209T022500Z
LAST-MODIFIED:20260209T022500Z
UID:10001144-1809993600-1810079999@ranken.edu
SUMMARY:Summer Semester Begins (T/Th Eve)
DESCRIPTION:Summer Semester Begins (T/Th Eve)
URL:https://ranken.edu/event/summer-semester-begins-t-th-eve-2/
LOCATION:Ranken – Central MO\, 975 Perry Avenue\, Ashland\, MO\, 65010\, United States
CATEGORIES:Ranken's Calendar,Student Events,Ranken St. Louis,Ranken West,Ranken Southeast,Ranken Central MO
ATTACH;FMTTYPE=image/png:https://ranken.edu/wp-content/uploads/2024/06/Calendar-Summer-Start-TTH-Eve.png
GEO:38.766329865225;-92.251480558212
X-APPLE-STRUCTURED-LOCATION;VALUE=URI;X-ADDRESS=Ranken – Central MO 975 Perry Avenue Ashland MO 65010 United States;X-APPLE-RADIUS=500;X-TITLE=975 Perry Avenue:geo:-92.251480558212,38.766329865225
END:VEVENT
BEGIN:VEVENT
DTSTART;VALUE=DATE:20270511
DTEND;VALUE=DATE:20270512
DTSTAMP:20260421T201719
CREATED:20260209T023138Z
LAST-MODIFIED:20260209T023138Z
UID:10001147-1809993600-1810079999@ranken.edu
SUMMARY:Summer Semester Begins (WTZ_PRY_ASH Continuing/Apprentice_Dealer- Summer I)
DESCRIPTION:Summer Semester Begins (WTZ_PRY_ASH Continuing/Apprentice_Dealer- Summer I)
URL:https://ranken.edu/event/summer-semester-begins-wtz_pry_ash-continuing-apprentice_dealer-summer-i-2/
LOCATION:Ranken – Central MO\, 975 Perry Avenue\, Ashland\, MO\, 65010\, United States
CATEGORIES:Ranken's Calendar,Student Events,Ranken West,Ranken Southeast,Ranken Central MO
ATTACH;FMTTYPE=image/png:https://ranken.edu/wp-content/uploads/2024/06/Calendar-Summer-Start-WTZ-Pry-Ash.png
GEO:38.766329865225;-92.251480558212
X-APPLE-STRUCTURED-LOCATION;VALUE=URI;X-ADDRESS=Ranken – Central MO 975 Perry Avenue Ashland MO 65010 United States;X-APPLE-RADIUS=500;X-TITLE=975 Perry Avenue:geo:-92.251480558212,38.766329865225
END:VEVENT
BEGIN:VEVENT
DTSTART;TZID=America/Chicago:20270511T090000
DTEND;TZID=America/Chicago:20270511T103000
DTSTAMP:20260421T201719
CREATED:20260209T022628Z
LAST-MODIFIED:20260209T170745Z
UID:10001145-1810026000-1810031400@ranken.edu
SUMMARY:Ranken Ready (Summer 2026 starts) - STL Manufacturing\, Information Technology
DESCRIPTION:Ranken Ready (Summer 2026 starts) – STL Manufacturing\, Information Technology
URL:https://ranken.edu/event/ranken-ready-summer-2026-starts-stl-manufacturing-information-technology/
LOCATION:Virtual (Online)
CATEGORIES:Ranken's Calendar,Student Events,Ranken St. Louis,New Student Orientation
ATTACH;FMTTYPE=image/png:https://ranken.edu/wp-content/uploads/2025/05/Calendar-Ranken-Ready-General.png
END:VEVENT
BEGIN:VEVENT
DTSTART;TZID=America/Chicago:20270512T090000
DTEND;TZID=America/Chicago:20270512T103000
DTSTAMP:20260421T201719
CREATED:20260209T022802Z
LAST-MODIFIED:20260209T170832Z
UID:10001146-1810112400-1810117800@ranken.edu
SUMMARY:Ranken Ready (Summer 2026 starts) - All Satellite Locations
DESCRIPTION:Ranken Ready (Summer 2026 starts) – All Satellite Locations
URL:https://ranken.edu/event/ranken-ready-summer-2026-starts-all-satellite-locations/
LOCATION:Virtual (Online)
CATEGORIES:Ranken's Calendar,Student Events,New Student Orientation,Ranken West,Ranken Southeast,Ranken Central MO
ATTACH;FMTTYPE=image/png:https://ranken.edu/wp-content/uploads/2025/05/Calendar-Ranken-Ready-General.png
END:VEVENT
END:VCALENDAR