BEGIN:VCALENDAR
VERSION:2.0
PRODID:-//Ranken Technical College - ECPv6.15.20//NONSGML v1.0//EN
CALSCALE:GREGORIAN
METHOD:PUBLISH
X-WR-CALNAME:Ranken Events Calendar
X-ORIGINAL-URL:https://ranken.edu
X-WR-CALDESC:Events for Ranken Technical College
REFRESH-INTERVAL;VALUE=DURATION:PT1H
X-Robots-Tag:noindex
X-PUBLISHED-TTL:PT1H
BEGIN:VTIMEZONE
TZID:America/Chicago
BEGIN:DAYLIGHT
TZOFFSETFROM:-0600
TZOFFSETTO:-0500
TZNAME:CDT
DTSTART:20240310T080000
END:DAYLIGHT
BEGIN:STANDARD
TZOFFSETFROM:-0500
TZOFFSETTO:-0600
TZNAME:CST
DTSTART:20241103T070000
END:STANDARD
BEGIN:DAYLIGHT
TZOFFSETFROM:-0600
TZOFFSETTO:-0500
TZNAME:CDT
DTSTART:20250309T080000
END:DAYLIGHT
BEGIN:STANDARD
TZOFFSETFROM:-0500
TZOFFSETTO:-0600
TZNAME:CST
DTSTART:20251102T070000
END:STANDARD
BEGIN:DAYLIGHT
TZOFFSETFROM:-0600
TZOFFSETTO:-0500
TZNAME:CDT
DTSTART:20260308T080000
END:DAYLIGHT
BEGIN:STANDARD
TZOFFSETFROM:-0500
TZOFFSETTO:-0600
TZNAME:CST
DTSTART:20261101T070000
END:STANDARD
BEGIN:DAYLIGHT
TZOFFSETFROM:-0600
TZOFFSETTO:-0500
TZNAME:CDT
DTSTART:20270314T080000
END:DAYLIGHT
BEGIN:STANDARD
TZOFFSETFROM:-0500
TZOFFSETTO:-0600
TZNAME:CST
DTSTART:20271107T070000
END:STANDARD
END:VTIMEZONE
BEGIN:VEVENT
DTSTART;VALUE=DATE:20251209
DTEND;VALUE=DATE:20251210
DTSTAMP:20260422T073141
CREATED:20250512T182821Z
LAST-MODIFIED:20251124T160425Z
UID:10000960-1765238400-1765324799@ranken.edu
SUMMARY:Ranken Ready (Spring Starts)—Main Campus Automotive\, Electrical Divisions
DESCRIPTION:This Ranken Ready event is for first-time students starting in Spring of 2026 in the Automotive and Electrical divisions at the Main Campus. \nMain Campus Automotive RSVP Main Campus Electrical RSVP \nThis is a virtual event\, taking place via Zoom. If you do not have access to connect virtually from a personal device\, we encourage you to reach out to your Student Success Team to discuss on-campus options for connecting. \nZoom Instructions: \nhttps://us02web.zoom.us/j/81639709418 \nMeeting ID: 816 3970 9418
URL:https://ranken.edu/event/new-student-prep-spring-starts-automotive-electrical/
LOCATION:Ranken – St. Louis\, 4431 Finney Avenue\, St. Louis\, MO\, 63113\, United States
CATEGORIES:Ranken's Calendar,Student Events,Ranken St. Louis,New Student Orientation
ATTACH;FMTTYPE=image/png:https://ranken.edu/wp-content/uploads/2024/05/Calendar-Auto-Elect-Prep.png
GEO:38.6532031;-90.248516
X-APPLE-STRUCTURED-LOCATION;VALUE=URI;X-ADDRESS=Ranken – St. Louis 4431 Finney Avenue St. Louis MO 63113 United States;X-APPLE-RADIUS=500;X-TITLE=4431 Finney Avenue:geo:-90.248516,38.6532031
END:VEVENT
BEGIN:VEVENT
DTSTART;VALUE=DATE:20251210
DTEND;VALUE=DATE:20251211
DTSTAMP:20260422T073141
CREATED:20250512T183751Z
LAST-MODIFIED:20250512T183751Z
UID:10000963-1765324800-1765411199@ranken.edu
SUMMARY:Fall Semester Ends (Online)
DESCRIPTION:Fall Semester Ends (Online)
URL:https://ranken.edu/event/fall-semester-ends-online-2/
LOCATION:Ranken – Central MO\, 975 Perry Avenue\, Ashland\, MO\, 65010\, United States
ATTACH;FMTTYPE=image/png:https://ranken.edu/wp-content/uploads/2024/06/Calendar-Fall-Ends-Online.png
GEO:38.766329865225;-92.251480558212
X-APPLE-STRUCTURED-LOCATION;VALUE=URI;X-ADDRESS=Ranken – Central MO 975 Perry Avenue Ashland MO 65010 United States;X-APPLE-RADIUS=500;X-TITLE=975 Perry Avenue:geo:-92.251480558212,38.766329865225
END:VEVENT
BEGIN:VEVENT
DTSTART;VALUE=DATE:20251210
DTEND;VALUE=DATE:20251211
DTSTAMP:20260422T073141
CREATED:20250512T183557Z
LAST-MODIFIED:20250512T183557Z
UID:10000962-1765324800-1765411199@ranken.edu
SUMMARY:Phi Theta Kappa Meeting
DESCRIPTION:Phi Theta Kappa Meeting
URL:https://ranken.edu/event/phi-theta-kappa-meeting-3/
LOCATION:Ranken – Central MO\, 975 Perry Avenue\, Ashland\, MO\, 65010\, United States
CATEGORIES:Ranken Central MO,Student Events,Ranken St. Louis,Ranken West,Ranken Southeast
ATTACH;FMTTYPE=image/png:https://ranken.edu/wp-content/uploads/2024/04/Default-Calendar.png
GEO:38.766329865225;-92.251480558212
X-APPLE-STRUCTURED-LOCATION;VALUE=URI;X-ADDRESS=Ranken – Central MO 975 Perry Avenue Ashland MO 65010 United States;X-APPLE-RADIUS=500;X-TITLE=975 Perry Avenue:geo:-92.251480558212,38.766329865225
END:VEVENT
BEGIN:VEVENT
DTSTART;VALUE=DATE:20251210
DTEND;VALUE=DATE:20251211
DTSTAMP:20260422T073141
CREATED:20250512T183059Z
LAST-MODIFIED:20251124T160458Z
UID:10000961-1765324800-1765411199@ranken.edu
SUMMARY:Ranken Ready (Spring Starts)—Satellite Locations\, All Divisions
DESCRIPTION:This Ranken Ready event is for first-time students starting in Spring of 2026 in all divisions at all Satellite Locations—Ranken West (Wentzville & Troy)\, Ranken Central (Ashland)\, Ranken Southeast (Perryville). \nSatellite RSVP \nThis is a virtual event\, taking place via Zoom. If you do not have access to connect virtually from a personal device\, we encourage you to reach out to your Student Success Team to discuss on-campus options for connecting. \nZoom Instructions: \nhttps://us02web.zoom.us/j/81639709418 \nMeeting ID: 816 3970 9418
URL:https://ranken.edu/event/new-student-prep-spring-starts/
LOCATION:Ranken – Central MO\, 975 Perry Avenue\, Ashland\, MO\, 65010\, United States
CATEGORIES:Ranken Southeast,Ranken Central MO,Ranken's Calendar,Student Events,New Student Orientation,Ranken West
ATTACH;FMTTYPE=image/png:https://ranken.edu/wp-content/uploads/2022/07/Calendar-All-Remote-Locations-Prep.png
GEO:38.766329865225;-92.251480558212
X-APPLE-STRUCTURED-LOCATION;VALUE=URI;X-ADDRESS=Ranken – Central MO 975 Perry Avenue Ashland MO 65010 United States;X-APPLE-RADIUS=500;X-TITLE=975 Perry Avenue:geo:-92.251480558212,38.766329865225
END:VEVENT
BEGIN:VEVENT
DTSTART;VALUE=DATE:20251215
DTEND;VALUE=DATE:20251216
DTSTAMP:20260422T073141
CREATED:20250512T184106Z
LAST-MODIFIED:20250512T184106Z
UID:10000964-1765756800-1765843199@ranken.edu
SUMMARY:Fall Semester Ends (M/W Eve)
DESCRIPTION:Fall Semester Ends (M/W Eve)
URL:https://ranken.edu/event/fall-semester-ends-m-w-eve-2/
LOCATION:Ranken – Central MO\, 975 Perry Avenue\, Ashland\, MO\, 65010\, United States
CATEGORIES:Ranken Southeast,Ranken Central MO,Ranken's Calendar,Student Events,Ranken St. Louis,Ranken West
ATTACH;FMTTYPE=image/png:https://ranken.edu/wp-content/uploads/2024/06/Calendar-Fall-Ends-M_W.png
GEO:38.766329865225;-92.251480558212
X-APPLE-STRUCTURED-LOCATION;VALUE=URI;X-ADDRESS=Ranken – Central MO 975 Perry Avenue Ashland MO 65010 United States;X-APPLE-RADIUS=500;X-TITLE=975 Perry Avenue:geo:-92.251480558212,38.766329865225
END:VEVENT
BEGIN:VEVENT
DTSTART;VALUE=DATE:20251218
DTEND;VALUE=DATE:20251219
DTSTAMP:20260422T073141
CREATED:20250512T185421Z
LAST-MODIFIED:20250512T185421Z
UID:10000966-1766016000-1766102399@ranken.edu
SUMMARY:Fall Semester Ends (Day)
DESCRIPTION:Fall Semester Ends (Day)
URL:https://ranken.edu/event/fall-semester-ends-day-2/
LOCATION:Ranken – Central MO\, 975 Perry Avenue\, Ashland\, MO\, 65010\, United States
CATEGORIES:Ranken Southeast,Ranken Central MO,Ranken's Calendar,Student Events,Ranken St. Louis,Ranken West
ATTACH;FMTTYPE=image/png:https://ranken.edu/wp-content/uploads/2024/06/Calendar-Fall-Ends-Day.png
GEO:38.766329865225;-92.251480558212
X-APPLE-STRUCTURED-LOCATION;VALUE=URI;X-ADDRESS=Ranken – Central MO 975 Perry Avenue Ashland MO 65010 United States;X-APPLE-RADIUS=500;X-TITLE=975 Perry Avenue:geo:-92.251480558212,38.766329865225
END:VEVENT
BEGIN:VEVENT
DTSTART;VALUE=DATE:20251218
DTEND;VALUE=DATE:20251219
DTSTAMP:20260422T073141
CREATED:20250512T185021Z
LAST-MODIFIED:20250512T185021Z
UID:10000965-1766016000-1766102399@ranken.edu
SUMMARY:Fall Semester Ends (T/Th Eve)
DESCRIPTION:Fall Semester Ends (T/Th Eve)
URL:https://ranken.edu/event/fall-semester-ends-t-th-eve-2/
LOCATION:Ranken – Central MO\, 975 Perry Avenue\, Ashland\, MO\, 65010\, United States
CATEGORIES:Ranken Southeast,Ranken Central MO,Ranken's Calendar,Student Events,Ranken St. Louis,Ranken West
ATTACH;FMTTYPE=image/png:https://ranken.edu/wp-content/uploads/2024/06/Calendar-Fall-Ends-T_TH.png
GEO:38.766329865225;-92.251480558212
X-APPLE-STRUCTURED-LOCATION;VALUE=URI;X-ADDRESS=Ranken – Central MO 975 Perry Avenue Ashland MO 65010 United States;X-APPLE-RADIUS=500;X-TITLE=975 Perry Avenue:geo:-92.251480558212,38.766329865225
END:VEVENT
BEGIN:VEVENT
DTSTART;VALUE=DATE:20251219
DTEND;VALUE=DATE:20260105
DTSTAMP:20260422T073141
CREATED:20250512T185808Z
LAST-MODIFIED:20250512T185808Z
UID:10000967-1766102400-1767571199@ranken.edu
SUMMARY:Winter Break/Student Holiday
DESCRIPTION:Winter Break/Student Holiday
URL:https://ranken.edu/event/winter-break-student-holiday/
LOCATION:Ranken – Central MO\, 975 Perry Avenue\, Ashland\, MO\, 65010\, United States
CATEGORIES:Ranken Southeast,Ranken Central MO,Ranken's Calendar,Student Events,Ranken St. Louis,Ranken West
ATTACH;FMTTYPE=image/png:https://ranken.edu/wp-content/uploads/2024/05/Calendar-Winter-Break.png
GEO:38.766329865225;-92.251480558212
X-APPLE-STRUCTURED-LOCATION;VALUE=URI;X-ADDRESS=Ranken – Central MO 975 Perry Avenue Ashland MO 65010 United States;X-APPLE-RADIUS=500;X-TITLE=975 Perry Avenue:geo:-92.251480558212,38.766329865225
END:VEVENT
BEGIN:VEVENT
DTSTART;VALUE=DATE:20251223
DTEND;VALUE=DATE:20260102
DTSTAMP:20260422T073141
CREATED:20250512T190053Z
LAST-MODIFIED:20251211T181931Z
UID:10000968-1766448000-1767311999@ranken.edu
SUMMARY:All School Holiday
DESCRIPTION:All School Holiday. All locations closed.
URL:https://ranken.edu/event/all-school-holiday-4/
LOCATION:Ranken – Central MO\, 975 Perry Avenue\, Ashland\, MO\, 65010\, United States
CATEGORIES:Ranken Central MO,All School Holidays,Ranken's Calendar,Ranken St. Louis,Ranken West,Ranken Southeast
ATTACH;FMTTYPE=image/png:https://ranken.edu/wp-content/uploads/2024/05/Calendar-Christmas.png
GEO:38.766329865225;-92.251480558212
X-APPLE-STRUCTURED-LOCATION;VALUE=URI;X-ADDRESS=Ranken – Central MO 975 Perry Avenue Ashland MO 65010 United States;X-APPLE-RADIUS=500;X-TITLE=975 Perry Avenue:geo:-92.251480558212,38.766329865225
END:VEVENT
BEGIN:VEVENT
DTSTART;VALUE=DATE:20260102
DTEND;VALUE=DATE:20260103
DTSTAMP:20260422T073141
CREATED:20250512T191212Z
LAST-MODIFIED:20250512T191212Z
UID:10000970-1767312000-1767398399@ranken.edu
SUMMARY:First Year Campus Acquaintance and Retention Excellence (FYCARE)
DESCRIPTION:First Year Campus Acquaintance and Retention Excellence (FYCARE)
URL:https://ranken.edu/event/first-year-campus-acquaintance-and-retention-excellence-fycare-3/
LOCATION:Ranken – St. Louis\, 4431 Finney Avenue\, St. Louis\, MO\, 63113\, United States
CATEGORIES:Ranken's Calendar,Student Events,Ranken St. Louis
ATTACH;FMTTYPE=image/png:https://ranken.edu/wp-content/uploads/2024/04/Default-Calendar.png
GEO:38.6532031;-90.248516
X-APPLE-STRUCTURED-LOCATION;VALUE=URI;X-ADDRESS=Ranken – St. Louis 4431 Finney Avenue St. Louis MO 63113 United States;X-APPLE-RADIUS=500;X-TITLE=4431 Finney Avenue:geo:-90.248516,38.6532031
END:VEVENT
BEGIN:VEVENT
DTSTART;TZID=America/Chicago:20260103T080000
DTEND;TZID=America/Chicago:20260103T120000
DTSTAMP:20260422T073141
CREATED:20250525T165405Z
LAST-MODIFIED:20250525T165405Z
UID:10001028-1767427200-1767441600@ranken.edu
SUMMARY:Limited Office Hours
DESCRIPTION:Some offices will be open for limited hours today to assist students.
URL:https://ranken.edu/event/limited-office-hours/
LOCATION:Ranken – Central MO\, 975 Perry Avenue\, Ashland\, MO\, 65010\, United States
CATEGORIES:Ranken Southeast,Ranken Central MO,Ranken's Calendar,Student Events,Ranken St. Louis,Ranken West
ATTACH;FMTTYPE=image/png:https://ranken.edu/wp-content/uploads/2024/05/Calendar-Limited-Hours.png
GEO:38.766329865225;-92.251480558212
X-APPLE-STRUCTURED-LOCATION;VALUE=URI;X-ADDRESS=Ranken – Central MO 975 Perry Avenue Ashland MO 65010 United States;X-APPLE-RADIUS=500;X-TITLE=975 Perry Avenue:geo:-92.251480558212,38.766329865225
END:VEVENT
BEGIN:VEVENT
DTSTART;VALUE=DATE:20260105
DTEND;VALUE=DATE:20260106
DTSTAMP:20260422T073141
CREATED:20250512T191751Z
LAST-MODIFIED:20250512T191751Z
UID:10000972-1767571200-1767657599@ranken.edu
SUMMARY:Spring Semester Begins (M/W Eve)
DESCRIPTION:Spring Semester Begins (M/W Eve)
URL:https://ranken.edu/event/spring-semester-begins-m-w-eve-2/
LOCATION:Ranken – Central MO\, 975 Perry Avenue\, Ashland\, MO\, 65010\, United States
CATEGORIES:Ranken Southeast,Ranken Central MO,Ranken's Calendar,Student Events,Ranken St. Louis,Ranken West
ATTACH;FMTTYPE=image/png:https://ranken.edu/wp-content/uploads/2024/05/Calendar-Spring-Start-MW-Evening.png
GEO:38.766329865225;-92.251480558212
X-APPLE-STRUCTURED-LOCATION;VALUE=URI;X-ADDRESS=Ranken – Central MO 975 Perry Avenue Ashland MO 65010 United States;X-APPLE-RADIUS=500;X-TITLE=975 Perry Avenue:geo:-92.251480558212,38.766329865225
END:VEVENT
BEGIN:VEVENT
DTSTART;VALUE=DATE:20260105
DTEND;VALUE=DATE:20260106
DTSTAMP:20260422T073141
CREATED:20250512T191404Z
LAST-MODIFIED:20250512T191404Z
UID:10000971-1767571200-1767657599@ranken.edu
SUMMARY:Spring Professional Development Day (UD) for Faculty
DESCRIPTION:Spring Professional Development Day (UD) for Faculty
URL:https://ranken.edu/event/spring-professional-development-day-ud-for-faculty/
LOCATION:Ranken – St. Louis\, 4431 Finney Avenue\, St. Louis\, MO\, 63113\, United States
CATEGORIES:Ranken's Calendar,Ranken St. Louis
ATTACH;FMTTYPE=image/png:https://ranken.edu/wp-content/uploads/2024/04/Default-Calendar.png
GEO:38.6532031;-90.248516
X-APPLE-STRUCTURED-LOCATION;VALUE=URI;X-ADDRESS=Ranken – St. Louis 4431 Finney Avenue St. Louis MO 63113 United States;X-APPLE-RADIUS=500;X-TITLE=4431 Finney Avenue:geo:-90.248516,38.6532031
END:VEVENT
BEGIN:VEVENT
DTSTART;VALUE=DATE:20260106
DTEND;VALUE=DATE:20260107
DTSTAMP:20260422T073141
CREATED:20250512T192210Z
LAST-MODIFIED:20250512T192210Z
UID:10000973-1767657600-1767743999@ranken.edu
SUMMARY:Spring All Faculty Meeting for UE Adjuncts
DESCRIPTION:Spring All Faculty Meeting for UE Adjuncts
URL:https://ranken.edu/event/spring-all-faculty-meeting-for-ue-adjuncts/
LOCATION:Ranken – Central MO\, 975 Perry Avenue\, Ashland\, MO\, 65010\, United States
CATEGORIES:Ranken Central MO,Ranken's Calendar,Ranken St. Louis,Ranken West,Ranken Southeast
ATTACH;FMTTYPE=image/png:https://ranken.edu/wp-content/uploads/2024/04/Default-Calendar.png
GEO:38.766329865225;-92.251480558212
X-APPLE-STRUCTURED-LOCATION;VALUE=URI;X-ADDRESS=Ranken – Central MO 975 Perry Avenue Ashland MO 65010 United States;X-APPLE-RADIUS=500;X-TITLE=975 Perry Avenue:geo:-92.251480558212,38.766329865225
END:VEVENT
BEGIN:VEVENT
DTSTART;VALUE=DATE:20260107
DTEND;VALUE=DATE:20260108
DTSTAMP:20260422T073141
CREATED:20250512T192417Z
LAST-MODIFIED:20250512T192417Z
UID:10000974-1767744000-1767830399@ranken.edu
SUMMARY:Spring Semester Begins (Day)
DESCRIPTION:Spring Semester Begins (Day)
URL:https://ranken.edu/event/spring-semester-begins-day/
LOCATION:Ranken – Central MO\, 975 Perry Avenue\, Ashland\, MO\, 65010\, United States
CATEGORIES:Ranken Southeast,Ranken Central MO,Ranken's Calendar,Student Events,Ranken St. Louis,Ranken West
ATTACH;FMTTYPE=image/png:https://ranken.edu/wp-content/uploads/2024/05/Calendar-Spring-Start-Day.png
GEO:38.766329865225;-92.251480558212
X-APPLE-STRUCTURED-LOCATION;VALUE=URI;X-ADDRESS=Ranken – Central MO 975 Perry Avenue Ashland MO 65010 United States;X-APPLE-RADIUS=500;X-TITLE=975 Perry Avenue:geo:-92.251480558212,38.766329865225
END:VEVENT
BEGIN:VEVENT
DTSTART;VALUE=DATE:20260108
DTEND;VALUE=DATE:20260109
DTSTAMP:20260422T073142
CREATED:20250512T193239Z
LAST-MODIFIED:20250512T193239Z
UID:10000975-1767830400-1767916799@ranken.edu
SUMMARY:Spring Semester Begins (T/Th Eve)
DESCRIPTION:Spring Semester Begins (T/Th Eve)
URL:https://ranken.edu/event/spring-semester-begins-t-th-eve/
LOCATION:Ranken – Central MO\, 975 Perry Avenue\, Ashland\, MO\, 65010\, United States
CATEGORIES:Ranken Southeast,Ranken Central MO,Ranken's Calendar,Student Events,Ranken St. Louis,Ranken West
ATTACH;FMTTYPE=image/png:https://ranken.edu/wp-content/uploads/2024/05/Calendar-Spring-Start-TTH-Evening.png
GEO:38.766329865225;-92.251480558212
X-APPLE-STRUCTURED-LOCATION;VALUE=URI;X-ADDRESS=Ranken – Central MO 975 Perry Avenue Ashland MO 65010 United States;X-APPLE-RADIUS=500;X-TITLE=975 Perry Avenue:geo:-92.251480558212,38.766329865225
END:VEVENT
BEGIN:VEVENT
DTSTART;VALUE=DATE:20260112
DTEND;VALUE=DATE:20260113
DTSTAMP:20260422T073142
CREATED:20250512T193527Z
LAST-MODIFIED:20250512T193527Z
UID:10000976-1768176000-1768262399@ranken.edu
SUMMARY:Spring Semester Begins (Online I)
DESCRIPTION:Spring Semester Begins (Online I)
URL:https://ranken.edu/event/spring-semester-begins-online-i/
LOCATION:Ranken – Central MO\, 975 Perry Avenue\, Ashland\, MO\, 65010\, United States
CATEGORIES:Ranken Southeast,Ranken Central MO,Ranken's Calendar,Student Events,Ranken St. Louis,Ranken West
ATTACH;FMTTYPE=image/png:https://ranken.edu/wp-content/uploads/2024/05/Calendar-Spring-Start-Online-I.png
GEO:38.766329865225;-92.251480558212
X-APPLE-STRUCTURED-LOCATION;VALUE=URI;X-ADDRESS=Ranken – Central MO 975 Perry Avenue Ashland MO 65010 United States;X-APPLE-RADIUS=500;X-TITLE=975 Perry Avenue:geo:-92.251480558212,38.766329865225
END:VEVENT
BEGIN:VEVENT
DTSTART;VALUE=DATE:20260119
DTEND;VALUE=DATE:20260120
DTSTAMP:20260422T073142
CREATED:20250512T193816Z
LAST-MODIFIED:20250512T193816Z
UID:10000977-1768780800-1768867199@ranken.edu
SUMMARY:All School Holiday (Martin Luther King Jr. Day)
DESCRIPTION:All School Holiday (Martin Luther King Jr. Day). All locations closed. No classes in session.
URL:https://ranken.edu/event/all-school-holiday-martin-luther-king-jr-day-2/
LOCATION:Ranken – Central MO\, 975 Perry Avenue\, Ashland\, MO\, 65010\, United States
CATEGORIES:Ranken Southeast,Ranken Central MO,All School Holidays,Ranken's Calendar,Student Events,Ranken St. Louis,Ranken West
ATTACH;FMTTYPE=image/png:https://ranken.edu/wp-content/uploads/2024/05/Calendar-MLK-Day.png
GEO:38.766329865225;-92.251480558212
X-APPLE-STRUCTURED-LOCATION;VALUE=URI;X-ADDRESS=Ranken – Central MO 975 Perry Avenue Ashland MO 65010 United States;X-APPLE-RADIUS=500;X-TITLE=975 Perry Avenue:geo:-92.251480558212,38.766329865225
END:VEVENT
BEGIN:VEVENT
DTSTART;VALUE=DATE:20260121
DTEND;VALUE=DATE:20260122
DTSTAMP:20260422T073142
CREATED:20250512T194021Z
LAST-MODIFIED:20250512T194021Z
UID:10000978-1768953600-1769039999@ranken.edu
SUMMARY:Phi Theta Kappa Meeting
DESCRIPTION:Phi Theta Kappa Meeting
URL:https://ranken.edu/event/phi-theta-kappa-meeting-4/
LOCATION:Ranken – Central MO\, 975 Perry Avenue\, Ashland\, MO\, 65010\, United States
CATEGORIES:Ranken Southeast,Ranken Central MO,Ranken's Calendar,Student Events,Ranken St. Louis,Ranken West
ATTACH;FMTTYPE=image/png:https://ranken.edu/wp-content/uploads/2024/04/Default-Calendar.png
GEO:38.766329865225;-92.251480558212
X-APPLE-STRUCTURED-LOCATION;VALUE=URI;X-ADDRESS=Ranken – Central MO 975 Perry Avenue Ashland MO 65010 United States;X-APPLE-RADIUS=500;X-TITLE=975 Perry Avenue:geo:-92.251480558212,38.766329865225
END:VEVENT
BEGIN:VEVENT
DTSTART;VALUE=DATE:20260126
DTEND;VALUE=DATE:20260127
DTSTAMP:20260422T073142
CREATED:20260126T115352Z
LAST-MODIFIED:20260126T115352Z
UID:10001067-1769385600-1769471999@ranken.edu
SUMMARY:Remote Learning Day
DESCRIPTION:On January 26\, 2026\, due to weather conditions\, all locations will transition to remote learning for both Day and Evening classes. Students\, please check your Ranken email and login to InsideRanken to participate in your classes\, remotely. Employees will also work remotely.
URL:https://ranken.edu/event/remote-learning-day/
LOCATION:Ranken – St. Louis\, 4431 Finney Avenue\, St. Louis\, MO\, 63113\, United States
CATEGORIES:Ranken Southeast,Ranken Central MO,Ranken's Calendar,Student Events,Ranken St. Louis,Ranken West
ATTACH;FMTTYPE=image/png:https://ranken.edu/wp-content/uploads/2024/04/Default-Calendar.png
GEO:38.6532031;-90.248516
X-APPLE-STRUCTURED-LOCATION;VALUE=URI;X-ADDRESS=Ranken – St. Louis 4431 Finney Avenue St. Louis MO 63113 United States;X-APPLE-RADIUS=500;X-TITLE=4431 Finney Avenue:geo:-90.248516,38.6532031
END:VEVENT
BEGIN:VEVENT
DTSTART;TZID=America/Chicago:20260129T083000
DTEND;TZID=America/Chicago:20260129T113000
DTSTAMP:20260422T073142
CREATED:20250512T194304Z
LAST-MODIFIED:20250902T153730Z
UID:10000979-1769675400-1769686200@ranken.edu
SUMMARY:Shadow-a-Tech (All Locations)
DESCRIPTION:Shadow-a-Tech \nRegister for your session.
URL:https://ranken.edu/event/shadow-a-tech-7/
LOCATION:Ranken – St. Louis\, 4431 Finney Avenue\, St. Louis\, MO\, 63113\, United States
CATEGORIES:Ranken West,Ranken Southeast,Ranken Central MO,Ranken's Calendar,Admissions,Shadow-A-Tech,Ranken St. Louis
ATTACH;FMTTYPE=image/png:https://ranken.edu/wp-content/uploads/2024/04/Calendar-Shadow-A-Tech.png
ORGANIZER;CN="Admissions Office":MAILTO:admissions@ranken.edu
GEO:38.6532031;-90.248516
X-APPLE-STRUCTURED-LOCATION;VALUE=URI;X-ADDRESS=Ranken – St. Louis 4431 Finney Avenue St. Louis MO 63113 United States;X-APPLE-RADIUS=500;X-TITLE=4431 Finney Avenue:geo:-90.248516,38.6532031
END:VEVENT
BEGIN:VEVENT
DTSTART;VALUE=DATE:20260206
DTEND;VALUE=DATE:20260207
DTSTAMP:20260422T073142
CREATED:20250513T163703Z
LAST-MODIFIED:20250513T164006Z
UID:10000980-1770336000-1770422399@ranken.edu
SUMMARY:Skills USA District Conference
DESCRIPTION:Skills USA District Conference
URL:https://ranken.edu/event/skills-usa-district-conference-2/
LOCATION:Ranken – St. Louis\, 4431 Finney Avenue\, St. Louis\, MO\, 63113\, United States
CATEGORIES:Ranken's Calendar,Student Events,Ranken St. Louis,SklllsUSA
ATTACH;FMTTYPE=image/png:https://ranken.edu/wp-content/uploads/2025/05/SkillsUSA.png
GEO:38.6532031;-90.248516
X-APPLE-STRUCTURED-LOCATION;VALUE=URI;X-ADDRESS=Ranken – St. Louis 4431 Finney Avenue St. Louis MO 63113 United States;X-APPLE-RADIUS=500;X-TITLE=4431 Finney Avenue:geo:-90.248516,38.6532031
END:VEVENT
BEGIN:VEVENT
DTSTART;TZID=America/Chicago:20260208T121000
DTEND;TZID=America/Chicago:20260208T124000
DTSTAMP:20260422T073142
CREATED:20260209T004108Z
LAST-MODIFIED:20260209T004108Z
UID:10001115-1770552600-1770554400@ranken.edu
SUMMARY:Phi Theta Kappa Mtg
DESCRIPTION:Phi Theta Kappa Mtg
URL:https://ranken.edu/event/phi-theta-kappa-mtg-5/
LOCATION:Virtual (Online)
CATEGORIES:Ranken Southeast,Ranken Central MO,Ranken's Calendar,Student Events,Ranken St. Louis,Ranken West
ATTACH;FMTTYPE=image/png:https://ranken.edu/wp-content/uploads/2024/04/Default-Calendar.png
END:VEVENT
BEGIN:VEVENT
DTSTART;VALUE=DATE:20260210
DTEND;VALUE=DATE:20260211
DTSTAMP:20260422T073142
CREATED:20250513T164249Z
LAST-MODIFIED:20250513T164249Z
UID:10000981-1770681600-1770767999@ranken.edu
SUMMARY:Phi Theta Kappa Meeting
DESCRIPTION:Phi Theta Kappa Meeting
URL:https://ranken.edu/event/phi-theta-kappa-meeting-5/
LOCATION:Ranken – Central MO\, 975 Perry Avenue\, Ashland\, MO\, 65010\, United States
CATEGORIES:Ranken Southeast,Ranken Central MO,Ranken's Calendar,Student Events,Ranken St. Louis,Ranken West
ATTACH;FMTTYPE=image/png:https://ranken.edu/wp-content/uploads/2024/04/Default-Calendar.png
GEO:38.766329865225;-92.251480558212
X-APPLE-STRUCTURED-LOCATION;VALUE=URI;X-ADDRESS=Ranken – Central MO 975 Perry Avenue Ashland MO 65010 United States;X-APPLE-RADIUS=500;X-TITLE=975 Perry Avenue:geo:-92.251480558212,38.766329865225
END:VEVENT
END:VCALENDAR