BEGIN:VCALENDAR
VERSION:2.0
PRODID:-//Ranken Technical College - ECPv6.15.20//NONSGML v1.0//EN
CALSCALE:GREGORIAN
METHOD:PUBLISH
X-WR-CALNAME:Ranken Events Calendar
X-ORIGINAL-URL:https://ranken.edu
X-WR-CALDESC:Events for Ranken Technical College
REFRESH-INTERVAL;VALUE=DURATION:PT1H
X-Robots-Tag:noindex
X-PUBLISHED-TTL:PT1H
BEGIN:VTIMEZONE
TZID:America/Chicago
BEGIN:DAYLIGHT
TZOFFSETFROM:-0600
TZOFFSETTO:-0500
TZNAME:CDT
DTSTART:20240310T080000
END:DAYLIGHT
BEGIN:STANDARD
TZOFFSETFROM:-0500
TZOFFSETTO:-0600
TZNAME:CST
DTSTART:20241103T070000
END:STANDARD
BEGIN:DAYLIGHT
TZOFFSETFROM:-0600
TZOFFSETTO:-0500
TZNAME:CDT
DTSTART:20250309T080000
END:DAYLIGHT
BEGIN:STANDARD
TZOFFSETFROM:-0500
TZOFFSETTO:-0600
TZNAME:CST
DTSTART:20251102T070000
END:STANDARD
BEGIN:DAYLIGHT
TZOFFSETFROM:-0600
TZOFFSETTO:-0500
TZNAME:CDT
DTSTART:20260308T080000
END:DAYLIGHT
BEGIN:STANDARD
TZOFFSETFROM:-0500
TZOFFSETTO:-0600
TZNAME:CST
DTSTART:20261101T070000
END:STANDARD
END:VTIMEZONE
BEGIN:VEVENT
DTSTART;TZID=America/Chicago:20250925T080000
DTEND;TZID=America/Chicago:20250925T093000
DTSTAMP:20260424T031257
CREATED:20250613T141155Z
LAST-MODIFIED:20250625T175056Z
UID:10001043-1758787200-1758792600@ranken.edu
SUMMARY:Ranken Experience (Ranken – CentralMO)
DESCRIPTION:At the Ranken Experience\, you will have a chance to discover Ranken and its latest updates\, while also meeting in person with faculty and staff. Light continental refreshments will be provided. Tours will be offered. Attendance is free of charge. \nRegister Here!
URL:https://ranken.edu/event/ranken-experience-at-ranken-centralmo/
LOCATION:Ranken – Central MO\, 975 Perry Avenue\, Ashland\, MO\, 65010\, United States
CATEGORIES:Ranken Experience,Ranken Central MO Ranken Experience,Student Events,Employer Events
ATTACH;FMTTYPE=image/png:https://ranken.edu/wp-content/uploads/2025/05/Ranken-Job-Fair-Experience-CentralMO.png
GEO:38.766329865225;-92.251480558212
X-APPLE-STRUCTURED-LOCATION;VALUE=URI;X-ADDRESS=Ranken – Central MO 975 Perry Avenue Ashland MO 65010 United States;X-APPLE-RADIUS=500;X-TITLE=975 Perry Avenue:geo:-92.251480558212,38.766329865225
END:VEVENT
BEGIN:VEVENT
DTSTART;TZID=America/Chicago:20250925T103000
DTEND;TZID=America/Chicago:20250925T120000
DTSTAMP:20260424T031257
CREATED:20250512T153328Z
LAST-MODIFIED:20250613T162046Z
UID:10000939-1758796200-1758801600@ranken.edu
SUMMARY:Job Fair (Ranken - CentralMO)
DESCRIPTION:At the Job Fair\, you’ll have an opportunity to meet face-to-face with the future pipeline to your workforce. This is also a great time to network with other employers. Attendance is free of charge. \n\nRegister Here!
URL:https://ranken.edu/event/job-fair-ranken-experience-at-ranken-centralmo/
LOCATION:Ranken – Central MO\, 975 Perry Avenue\, Ashland\, MO\, 65010\, United States
CATEGORIES:Job Fairs,Ranken Central MO Job Fair,Ranken Experience,Ranken Central MO Ranken Experience,Employer Events,Ranken Central MO
ATTACH;FMTTYPE=image/png:https://ranken.edu/wp-content/uploads/2025/05/Ranken-Job-Fair-Experience-CentralMO.png
GEO:38.766329865225;-92.251480558212
X-APPLE-STRUCTURED-LOCATION;VALUE=URI;X-ADDRESS=Ranken – Central MO 975 Perry Avenue Ashland MO 65010 United States;X-APPLE-RADIUS=500;X-TITLE=975 Perry Avenue:geo:-92.251480558212,38.766329865225
END:VEVENT
BEGIN:VEVENT
DTSTART;VALUE=DATE:20251002
DTEND;VALUE=DATE:20251003
DTSTAMP:20260424T031257
CREATED:20250512T153629Z
LAST-MODIFIED:20250512T153629Z
UID:10000940-1759363200-1759449599@ranken.edu
SUMMARY:Phi Theta Kappa Meeting
DESCRIPTION:Phi Theta Kappa Meeting
URL:https://ranken.edu/event/phi-theta-kappa-meeting/
LOCATION:Ranken – Central MO\, 975 Perry Avenue\, Ashland\, MO\, 65010\, United States
CATEGORIES:Ranken St. Louis,Ranken West,Ranken Southeast,Ranken Central MO,Ranken's Calendar,Student Events
ATTACH;FMTTYPE=image/png:https://ranken.edu/wp-content/uploads/2024/04/Default-Calendar.png
GEO:38.766329865225;-92.251480558212
X-APPLE-STRUCTURED-LOCATION;VALUE=URI;X-ADDRESS=Ranken – Central MO 975 Perry Avenue Ashland MO 65010 United States;X-APPLE-RADIUS=500;X-TITLE=975 Perry Avenue:geo:-92.251480558212,38.766329865225
END:VEVENT
BEGIN:VEVENT
DTSTART;TZID=America/Chicago:20251002T083000
DTEND;TZID=America/Chicago:20251002T113000
DTSTAMP:20260424T031257
CREATED:20250512T154205Z
LAST-MODIFIED:20250902T153635Z
UID:10000941-1759393800-1759404600@ranken.edu
SUMMARY:Shadow-a-Tech (All Locations)
DESCRIPTION:Shadow-a-Tech \nRegister for your session.
URL:https://ranken.edu/event/shadow-a-tech-5/
LOCATION:Ranken – St. Louis\, 4431 Finney Avenue\, St. Louis\, MO\, 63113\, United States
CATEGORIES:Shadow-A-Tech,Ranken St. Louis,Ranken West,Ranken Southeast,Ranken Central MO,Ranken's Calendar,Admissions
ATTACH;FMTTYPE=image/png:https://ranken.edu/wp-content/uploads/2024/04/Calendar-Shadow-A-Tech.png
ORGANIZER;CN="Admissions Office":MAILTO:admissions@ranken.edu
GEO:38.6532031;-90.248516
X-APPLE-STRUCTURED-LOCATION;VALUE=URI;X-ADDRESS=Ranken – St. Louis 4431 Finney Avenue St. Louis MO 63113 United States;X-APPLE-RADIUS=500;X-TITLE=4431 Finney Avenue:geo:-90.248516,38.6532031
END:VEVENT
BEGIN:VEVENT
DTSTART;VALUE=DATE:20251009
DTEND;VALUE=DATE:20251010
DTSTAMP:20260424T031257
CREATED:20250512T154430Z
LAST-MODIFIED:20251001T164804Z
UID:10000942-1759968000-1760054399@ranken.edu
SUMMARY:MFG Day (Ranken Southeast)
DESCRIPTION:MFG Day at Ranken Southeast (Perryville)
URL:https://ranken.edu/event/mfg-day-southeast/
LOCATION:Ranken – Southeast\, 1907 N. Perryville Blvd.\, Perryville\, MO\, 63775\, United States
CATEGORIES:Ranken Southeast,Educators,Ranken's Calendar,Admissions
ATTACH;FMTTYPE=image/png:https://ranken.edu/wp-content/uploads/2024/05/Calendar-Manufacturing-Day.png
ORGANIZER;CN="Admissions Office":MAILTO:admissions@ranken.edu
GEO:37.74545318755;-89.866128687284
X-APPLE-STRUCTURED-LOCATION;VALUE=URI;X-ADDRESS=Ranken – Southeast 1907 N. Perryville Blvd. Perryville MO 63775 United States;X-APPLE-RADIUS=500;X-TITLE=1907 N. Perryville Blvd.:geo:-89.866128687284,37.74545318755
END:VEVENT
BEGIN:VEVENT
DTSTART;TZID=America/Chicago:20251009T083000
DTEND;TZID=America/Chicago:20251009T130000
DTSTAMP:20260424T031257
CREATED:20250512T155217Z
LAST-MODIFIED:20250908T150423Z
UID:10000943-1759998600-1760014800@ranken.edu
SUMMARY:Manufacturing Day (Main Campus)
DESCRIPTION:Manufacturing Day
URL:https://ranken.edu/event/manufacturing-day-2025/
LOCATION:Ranken – St. Louis\, 4431 Finney Avenue\, St. Louis\, MO\, 63113\, United States
CATEGORIES:Ranken's Calendar,Ranken St. Louis
ATTACH;FMTTYPE=image/png:https://ranken.edu/wp-content/uploads/2024/05/Calendar-Manufacturing-Day.png
ORGANIZER;CN="Admissions Office":MAILTO:admissions@ranken.edu
GEO:38.6532031;-90.248516
X-APPLE-STRUCTURED-LOCATION;VALUE=URI;X-ADDRESS=Ranken – St. Louis 4431 Finney Avenue St. Louis MO 63113 United States;X-APPLE-RADIUS=500;X-TITLE=4431 Finney Avenue:geo:-90.248516,38.6532031
END:VEVENT
BEGIN:VEVENT
DTSTART;VALUE=DATE:20251015
DTEND;VALUE=DATE:20251016
DTSTAMP:20260424T031257
CREATED:20250512T155607Z
LAST-MODIFIED:20250512T155949Z
UID:10000944-1760486400-1760572799@ranken.edu
SUMMARY:Fall Online I Classes End
DESCRIPTION:Fall Online I Classes End
URL:https://ranken.edu/event/fall-online-i-classes-end-online/
LOCATION:Ranken – Central MO\, 975 Perry Avenue\, Ashland\, MO\, 65010\, United States
CATEGORIES:Ranken St. Louis,Ranken West,Ranken Southeast,Ranken Central MO,Ranken's Calendar,Student Events
ATTACH;FMTTYPE=image/png:https://ranken.edu/wp-content/uploads/2024/04/Default-Calendar.png
GEO:38.766329865225;-92.251480558212
X-APPLE-STRUCTURED-LOCATION;VALUE=URI;X-ADDRESS=Ranken – Central MO 975 Perry Avenue Ashland MO 65010 United States;X-APPLE-RADIUS=500;X-TITLE=975 Perry Avenue:geo:-92.251480558212,38.766329865225
END:VEVENT
END:VCALENDAR