BEGIN:VCALENDAR
VERSION:2.0
PRODID:-//Ranken Technical College - ECPv6.15.20//NONSGML v1.0//EN
CALSCALE:GREGORIAN
METHOD:PUBLISH
X-WR-CALNAME:Ranken Events Calendar
X-ORIGINAL-URL:https://ranken.edu
X-WR-CALDESC:Events for Ranken Technical College
REFRESH-INTERVAL;VALUE=DURATION:PT1H
X-Robots-Tag:noindex
X-PUBLISHED-TTL:PT1H
BEGIN:VTIMEZONE
TZID:America/Chicago
BEGIN:DAYLIGHT
TZOFFSETFROM:-0600
TZOFFSETTO:-0500
TZNAME:CDT
DTSTART:20240310T080000
END:DAYLIGHT
BEGIN:STANDARD
TZOFFSETFROM:-0500
TZOFFSETTO:-0600
TZNAME:CST
DTSTART:20241103T070000
END:STANDARD
BEGIN:DAYLIGHT
TZOFFSETFROM:-0600
TZOFFSETTO:-0500
TZNAME:CDT
DTSTART:20250309T080000
END:DAYLIGHT
BEGIN:STANDARD
TZOFFSETFROM:-0500
TZOFFSETTO:-0600
TZNAME:CST
DTSTART:20251102T070000
END:STANDARD
BEGIN:DAYLIGHT
TZOFFSETFROM:-0600
TZOFFSETTO:-0500
TZNAME:CDT
DTSTART:20260308T080000
END:DAYLIGHT
BEGIN:STANDARD
TZOFFSETFROM:-0500
TZOFFSETTO:-0600
TZNAME:CST
DTSTART:20261101T070000
END:STANDARD
END:VTIMEZONE
BEGIN:VEVENT
DTSTART;VALUE=DATE:20250817
DTEND;VALUE=DATE:20250818
DTSTAMP:20260421T211029
CREATED:20240530T202523Z
LAST-MODIFIED:20240617T164211Z
UID:10000845-1755388800-1755475199@ranken.edu
SUMMARY:Summer Semester Ends (Online II)
DESCRIPTION:Summer Semester Online classes end.
URL:https://ranken.edu/event/summer-semester-ends-online-ii-2/
LOCATION:Ranken – Southeast\, 1907 N. Perryville Blvd.\, Perryville\, MO\, 63775\, United States
CATEGORIES:Ranken's Calendar,Student Events,Ranken St. Louis,Ranken West,Ranken Southeast,Ranken Central MO
ATTACH;FMTTYPE=image/png:https://ranken.edu/wp-content/uploads/2024/04/Calendar-Summer-Ends-Online-II.png
GEO:37.74545318755;-89.866128687284
X-APPLE-STRUCTURED-LOCATION;VALUE=URI;X-ADDRESS=Ranken – Southeast 1907 N. Perryville Blvd. Perryville MO 63775 United States;X-APPLE-RADIUS=500;X-TITLE=1907 N. Perryville Blvd.:geo:-89.866128687284,37.74545318755
END:VEVENT
BEGIN:VEVENT
DTSTART;VALUE=DATE:20250818
DTEND;VALUE=DATE:20250819
DTSTAMP:20260421T211029
CREATED:20250512T144218Z
LAST-MODIFIED:20250512T144218Z
UID:10000928-1755475200-1755561599@ranken.edu
SUMMARY:Dual Enrollment Orientation
DESCRIPTION:Dual Enrollment Orientation
URL:https://ranken.edu/event/dual-enrollment-orientation-2/
LOCATION:Ranken – Southeast\, 1907 N. Perryville Blvd.\, Perryville\, MO\, 63775\, United States
CATEGORIES:Ranken's Calendar,New Student Orientation,Ranken Southeast
ATTACH;FMTTYPE=image/png:https://ranken.edu/wp-content/uploads/2024/04/Default-Calendar.png
GEO:37.74545318755;-89.866128687284
X-APPLE-STRUCTURED-LOCATION;VALUE=URI;X-ADDRESS=Ranken – Southeast 1907 N. Perryville Blvd. Perryville MO 63775 United States;X-APPLE-RADIUS=500;X-TITLE=1907 N. Perryville Blvd.:geo:-89.866128687284,37.74545318755
END:VEVENT
BEGIN:VEVENT
DTSTART;VALUE=DATE:20250818
DTEND;VALUE=DATE:20250819
DTSTAMP:20260421T211029
CREATED:20240530T202803Z
LAST-MODIFIED:20240617T164105Z
UID:10000846-1755475200-1755561599@ranken.edu
SUMMARY:Summer Semester Ends (M/W Eve)
DESCRIPTION:Summer semester classes end for Monday & Wednesday Evening.
URL:https://ranken.edu/event/summer-semester-ends-m-w-eve-2/
LOCATION:Ranken – Southeast\, 1907 N. Perryville Blvd.\, Perryville\, MO\, 63775\, United States
CATEGORIES:Ranken's Calendar,Student Events,Ranken St. Louis,Ranken West,Ranken Southeast,Ranken Central MO
ATTACH;FMTTYPE=image/png:https://ranken.edu/wp-content/uploads/2024/04/Calendar-Summer-End-MW-EVe.png
GEO:37.74545318755;-89.866128687284
X-APPLE-STRUCTURED-LOCATION;VALUE=URI;X-ADDRESS=Ranken – Southeast 1907 N. Perryville Blvd. Perryville MO 63775 United States;X-APPLE-RADIUS=500;X-TITLE=1907 N. Perryville Blvd.:geo:-89.866128687284,37.74545318755
END:VEVENT
BEGIN:VEVENT
DTSTART;VALUE=DATE:20250819
DTEND;VALUE=DATE:20250820
DTSTAMP:20260421T211029
CREATED:20250512T144445Z
LAST-MODIFIED:20250512T144445Z
UID:10000929-1755561600-1755647999@ranken.edu
SUMMARY:Dual Enrollment Orientation
DESCRIPTION:Dual Enrollment Orientation
URL:https://ranken.edu/event/dual-enrollment-orientation-3/
LOCATION:Ranken – Central MO\, 975 Perry Avenue\, Ashland\, MO\, 65010\, United States
CATEGORIES:Ranken's Calendar,New Student Orientation,Ranken Central MO
ATTACH;FMTTYPE=image/png:https://ranken.edu/wp-content/uploads/2024/04/Default-Calendar.png
GEO:38.766329865225;-92.251480558212
X-APPLE-STRUCTURED-LOCATION;VALUE=URI;X-ADDRESS=Ranken – Central MO 975 Perry Avenue Ashland MO 65010 United States;X-APPLE-RADIUS=500;X-TITLE=975 Perry Avenue:geo:-92.251480558212,38.766329865225
END:VEVENT
BEGIN:VEVENT
DTSTART;VALUE=DATE:20250819
DTEND;VALUE=DATE:20250820
DTSTAMP:20260421T211029
CREATED:20240530T203019Z
LAST-MODIFIED:20240617T163713Z
UID:10000847-1755561600-1755647999@ranken.edu
SUMMARY:Summer Semester Ends (Day\, T/Th Eve)
DESCRIPTION:Summer Semester classes end for Day School and Tuesday & Thursday Evening.
URL:https://ranken.edu/event/summer-semester-ends-day-t-th-eve-2/
LOCATION:Ranken – Southeast\, 1907 N. Perryville Blvd.\, Perryville\, MO\, 63775\, United States
CATEGORIES:Ranken's Calendar,Student Events,Ranken St. Louis,Ranken West,Ranken Southeast,Ranken Central MO
ATTACH;FMTTYPE=image/png:https://ranken.edu/wp-content/uploads/2024/04/Calendar-Summer-End-Day-April-26-2024-at-16.50.37.png
GEO:37.74545318755;-89.866128687284
X-APPLE-STRUCTURED-LOCATION;VALUE=URI;X-ADDRESS=Ranken – Southeast 1907 N. Perryville Blvd. Perryville MO 63775 United States;X-APPLE-RADIUS=500;X-TITLE=1907 N. Perryville Blvd.:geo:-89.866128687284,37.74545318755
END:VEVENT
BEGIN:VEVENT
DTSTART;VALUE=DATE:20250821
DTEND;VALUE=DATE:20250822
DTSTAMP:20260421T211029
CREATED:20250512T144706Z
LAST-MODIFIED:20250512T144746Z
UID:10000930-1755734400-1755820799@ranken.edu
SUMMARY:Fall Professional Development Day
DESCRIPTION:Fall Professional Development Day for Faculty
URL:https://ranken.edu/event/fall-professional-development-day/
LOCATION:Ranken – Central MO\, 975 Perry Avenue\, Ashland\, MO\, 65010\, United States
ATTACH;FMTTYPE=image/png:https://ranken.edu/wp-content/uploads/2024/04/Default-Calendar.png
GEO:38.766329865225;-92.251480558212
X-APPLE-STRUCTURED-LOCATION;VALUE=URI;X-ADDRESS=Ranken – Central MO 975 Perry Avenue Ashland MO 65010 United States;X-APPLE-RADIUS=500;X-TITLE=975 Perry Avenue:geo:-92.251480558212,38.766329865225
END:VEVENT
BEGIN:VEVENT
DTSTART;VALUE=DATE:20250822
DTEND;VALUE=DATE:20250823
DTSTAMP:20260421T211029
CREATED:20250512T144925Z
LAST-MODIFIED:20250512T144925Z
UID:10000931-1755820800-1755907199@ranken.edu
SUMMARY:Dual Enrollment Orientation
DESCRIPTION:Dual Enrollment Orientation
URL:https://ranken.edu/event/dual-enrollment-orientation-4/
LOCATION:Ranken – St. Louis\, 4431 Finney Avenue\, St. Louis\, MO\, 63113\, United States
CATEGORIES:Ranken's Calendar,Ranken St. Louis,New Student Orientation
ATTACH;FMTTYPE=image/png:https://ranken.edu/wp-content/uploads/2024/04/Default-Calendar.png
GEO:38.6532031;-90.248516
X-APPLE-STRUCTURED-LOCATION;VALUE=URI;X-ADDRESS=Ranken – St. Louis 4431 Finney Avenue St. Louis MO 63113 United States;X-APPLE-RADIUS=500;X-TITLE=4431 Finney Avenue:geo:-90.248516,38.6532031
END:VEVENT
BEGIN:VEVENT
DTSTART;VALUE=DATE:20250825
DTEND;VALUE=DATE:20250826
DTSTAMP:20260421T211029
CREATED:20240530T203255Z
LAST-MODIFIED:20240617T163759Z
UID:10000848-1756080000-1756166399@ranken.edu
SUMMARY:Fall 2025-2026 Semester Starts (Online I\, Day\, M/W Eve)
DESCRIPTION:Fall Semester classes start for Online\, Day School\, and Monday & Wednesday Evening.
URL:https://ranken.edu/event/fall-2025-2026-semester-starts-online-i-day-m-w-eve/
LOCATION:Ranken – Southeast\, 1907 N. Perryville Blvd.\, Perryville\, MO\, 63775\, United States
CATEGORIES:Ranken's Calendar,Student Events,Ranken St. Louis,Ranken West,Ranken Southeast,Ranken Central MO
ATTACH;FMTTYPE=image/png:https://ranken.edu/wp-content/uploads/2024/04/Calendar-Fall.png
GEO:37.74545318755;-89.866128687284
X-APPLE-STRUCTURED-LOCATION;VALUE=URI;X-ADDRESS=Ranken – Southeast 1907 N. Perryville Blvd. Perryville MO 63775 United States;X-APPLE-RADIUS=500;X-TITLE=1907 N. Perryville Blvd.:geo:-89.866128687284,37.74545318755
END:VEVENT
BEGIN:VEVENT
DTSTART;VALUE=DATE:20250826
DTEND;VALUE=DATE:20250827
DTSTAMP:20260421T211029
CREATED:20240530T203454Z
LAST-MODIFIED:20240617T163845Z
UID:10000849-1756166400-1756252799@ranken.edu
SUMMARY:Fall 2025-2026 Semester Starts (T/R Eve)
DESCRIPTION:Fall Semester classes start for Tuesday & Thursday Evening.
URL:https://ranken.edu/event/fall-2025-2026-semester-starts-t-r-eve/
LOCATION:Ranken – Southeast\, 1907 N. Perryville Blvd.\, Perryville\, MO\, 63775\, United States
CATEGORIES:Ranken's Calendar,Student Events,Ranken St. Louis,Ranken West,Ranken Southeast,Ranken Central MO
ATTACH;FMTTYPE=image/png:https://ranken.edu/wp-content/uploads/2024/04/Calendar-Fall-T_TH.png
GEO:37.74545318755;-89.866128687284
X-APPLE-STRUCTURED-LOCATION;VALUE=URI;X-ADDRESS=Ranken – Southeast 1907 N. Perryville Blvd. Perryville MO 63775 United States;X-APPLE-RADIUS=500;X-TITLE=1907 N. Perryville Blvd.:geo:-89.866128687284,37.74545318755
END:VEVENT
BEGIN:VEVENT
DTSTART;VALUE=DATE:20250901
DTEND;VALUE=DATE:20250902
DTSTAMP:20260421T211029
CREATED:20250512T145606Z
LAST-MODIFIED:20250512T202359Z
UID:10000934-1756684800-1756771199@ranken.edu
SUMMARY:All School Holiday (Labor Day)
DESCRIPTION:All School Holiday (Labor Day). All locations closed. No classes in session.
URL:https://ranken.edu/event/all-school-holiday-labor-day-2/
LOCATION:Ranken – Central MO\, 975 Perry Avenue\, Ashland\, MO\, 65010\, United States
CATEGORIES:Ranken's Calendar,Ranken St. Louis,Ranken West,Ranken Southeast,Ranken Central MO,All School Holidays
ATTACH;FMTTYPE=image/png:https://ranken.edu/wp-content/uploads/2024/05/Calendar-labor-day.png
GEO:38.766329865225;-92.251480558212
X-APPLE-STRUCTURED-LOCATION;VALUE=URI;X-ADDRESS=Ranken – Central MO 975 Perry Avenue Ashland MO 65010 United States;X-APPLE-RADIUS=500;X-TITLE=975 Perry Avenue:geo:-92.251480558212,38.766329865225
END:VEVENT
BEGIN:VEVENT
DTSTART;TZID=America/Chicago:20250912T080000
DTEND;TZID=America/Chicago:20250912T100000
DTSTAMP:20260421T211029
CREATED:20250512T145928Z
LAST-MODIFIED:20250613T171152Z
UID:10000935-1757664000-1757671200@ranken.edu
SUMMARY:Ranken Experience (St. Louis)
DESCRIPTION:At the Ranken Experience\, you will have a chance to discover Ranken and its latest updates\, while also meeting in person with faculty and staff. Light continental refreshments will be provided. Tours will be offered. Attendance is free of charge.\n\nRegister Here!
URL:https://ranken.edu/event/ranken-experience-5/
LOCATION:Ranken – St. Louis\, 4431 Finney Avenue\, St. Louis\, MO\, 63113\, United States
CATEGORIES:Ranken's Calendar,Ranken St. Louis,Ranken Experience,St. Louis Ranken Experience
ATTACH;FMTTYPE=image/png:https://ranken.edu/wp-content/uploads/2024/05/Calendar-Ranken-Experience.png
GEO:38.6532031;-90.248516
X-APPLE-STRUCTURED-LOCATION;VALUE=URI;X-ADDRESS=Ranken – St. Louis 4431 Finney Avenue St. Louis MO 63113 United States;X-APPLE-RADIUS=500;X-TITLE=4431 Finney Avenue:geo:-90.248516,38.6532031
END:VEVENT
END:VCALENDAR