BEGIN:VCALENDAR
VERSION:2.0
PRODID:-//Ranken Technical College - ECPv6.15.20//NONSGML v1.0//EN
CALSCALE:GREGORIAN
METHOD:PUBLISH
X-WR-CALNAME:Ranken Events Calendar
X-ORIGINAL-URL:https://ranken.edu
X-WR-CALDESC:Events for Ranken Technical College
REFRESH-INTERVAL;VALUE=DURATION:PT1H
X-Robots-Tag:noindex
X-PUBLISHED-TTL:PT1H
BEGIN:VTIMEZONE
TZID:America/Chicago
BEGIN:DAYLIGHT
TZOFFSETFROM:-0600
TZOFFSETTO:-0500
TZNAME:CDT
DTSTART:20260308T080000
END:DAYLIGHT
BEGIN:STANDARD
TZOFFSETFROM:-0500
TZOFFSETTO:-0600
TZNAME:CST
DTSTART:20261101T070000
END:STANDARD
BEGIN:DAYLIGHT
TZOFFSETFROM:-0600
TZOFFSETTO:-0500
TZNAME:CDT
DTSTART:20270314T080000
END:DAYLIGHT
BEGIN:STANDARD
TZOFFSETFROM:-0500
TZOFFSETTO:-0600
TZNAME:CST
DTSTART:20271107T070000
END:STANDARD
BEGIN:DAYLIGHT
TZOFFSETFROM:-0600
TZOFFSETTO:-0500
TZNAME:CDT
DTSTART:20280312T080000
END:DAYLIGHT
BEGIN:STANDARD
TZOFFSETFROM:-0500
TZOFFSETTO:-0600
TZNAME:CST
DTSTART:20281105T070000
END:STANDARD
END:VTIMEZONE
BEGIN:VEVENT
DTSTART;TZID=America/Chicago:20270209T121000
DTEND;TZID=America/Chicago:20270209T124000
DTSTAMP:20260425T201012
CREATED:20260209T004939Z
LAST-MODIFIED:20260209T004939Z
UID:10001118-1802175000-1802176800@ranken.edu
SUMMARY:Phi Theta Kappa Mtg
DESCRIPTION:Phi Theta Kappa Mtg
URL:https://ranken.edu/event/phi-theta-kappa-mtg-6/
LOCATION:Virtual (Online)
CATEGORIES:Ranken's Calendar,Student Events,Ranken St. Louis,Ranken West,Ranken Southeast,Ranken Central MO
ATTACH;FMTTYPE=image/png:https://ranken.edu/wp-content/uploads/2024/04/Default-Calendar.png
END:VEVENT
BEGIN:VEVENT
DTSTART;VALUE=DATE:20270215
DTEND;VALUE=DATE:20270216
DTSTAMP:20260425T201012
CREATED:20260209T005100Z
LAST-MODIFIED:20260209T005100Z
UID:10001119-1802649600-1802735999@ranken.edu
SUMMARY:All School Holiday - President's Day Observance
DESCRIPTION:All School Holiday – President’s Day Observance
URL:https://ranken.edu/event/all-school-holiday-presidents-day-observance/
LOCATION:Ranken – Central MO\, 975 Perry Avenue\, Ashland\, MO\, 65010\, United States
CATEGORIES:Ranken's Calendar,Student Events,Ranken St. Louis,Ranken West,Ranken Southeast,Ranken Central MO,All School Holidays
ATTACH;FMTTYPE=image/png:https://ranken.edu/wp-content/uploads/2024/05/Calendar-Presidents-Day.png
GEO:38.766329865225;-92.251480558212
X-APPLE-STRUCTURED-LOCATION;VALUE=URI;X-ADDRESS=Ranken – Central MO 975 Perry Avenue Ashland MO 65010 United States;X-APPLE-RADIUS=500;X-TITLE=975 Perry Avenue:geo:-92.251480558212,38.766329865225
END:VEVENT
BEGIN:VEVENT
DTSTART;VALUE=DATE:20270303
DTEND;VALUE=DATE:20270304
DTSTAMP:20260425T201012
CREATED:20260209T010023Z
LAST-MODIFIED:20260209T010023Z
UID:10001120-1804032000-1804118399@ranken.edu
SUMMARY:Online I Classes End (Online I)
DESCRIPTION:Online I Classes End (Online I)
URL:https://ranken.edu/event/online-i-classes-end-online-i-3/
LOCATION:Ranken – Central MO\, 975 Perry Avenue\, Ashland\, MO\, 65010\, United States
CATEGORIES:Ranken's Calendar,Student Events,Ranken St. Louis,Ranken West,Ranken Southeast,Ranken Central MO
ATTACH;FMTTYPE=image/png:https://ranken.edu/wp-content/uploads/2026/02/Calendar-Spring-Ends-Online-I.png
GEO:38.766329865225;-92.251480558212
X-APPLE-STRUCTURED-LOCATION;VALUE=URI;X-ADDRESS=Ranken – Central MO 975 Perry Avenue Ashland MO 65010 United States;X-APPLE-RADIUS=500;X-TITLE=975 Perry Avenue:geo:-92.251480558212,38.766329865225
END:VEVENT
BEGIN:VEVENT
DTSTART;VALUE=DATE:20270304
DTEND;VALUE=DATE:20270305
DTSTAMP:20260425T201012
CREATED:20260209T010317Z
LAST-MODIFIED:20260209T010317Z
UID:10001121-1804118400-1804204799@ranken.edu
SUMMARY:Future Builders: Middle School Exploration Day
DESCRIPTION:Future Builders: Middle School Exploration Day
URL:https://ranken.edu/event/future-builders-middle-school-exploration-day-4/
LOCATION:Ranken – St. Louis\, 4431 Finney Avenue\, St. Louis\, MO\, 63113\, United States
CATEGORIES:Ranken's Calendar,Admissions,Ranken St. Louis
ATTACH;FMTTYPE=image/png:https://ranken.edu/wp-content/uploads/2024/04/Default-Calendar.png
ORGANIZER;CN="Admissions Office":MAILTO:admissions@ranken.edu
GEO:38.6532031;-90.248516
X-APPLE-STRUCTURED-LOCATION;VALUE=URI;X-ADDRESS=Ranken – St. Louis 4431 Finney Avenue St. Louis MO 63113 United States;X-APPLE-RADIUS=500;X-TITLE=4431 Finney Avenue:geo:-90.248516,38.6532031
END:VEVENT
BEGIN:VEVENT
DTSTART;VALUE=DATE:20270308
DTEND;VALUE=DATE:20270309
DTSTAMP:20260425T201012
CREATED:20260209T010614Z
LAST-MODIFIED:20260209T010614Z
UID:10001122-1804464000-1804550399@ranken.edu
SUMMARY:Online II Classes Begin
DESCRIPTION:Online II Classes Begin
URL:https://ranken.edu/event/online-ii-classes-begin-3/
LOCATION:Ranken – Central MO\, 975 Perry Avenue\, Ashland\, MO\, 65010\, United States
CATEGORIES:Ranken's Calendar,Student Events,Ranken St. Louis,Ranken West,Ranken Southeast,Ranken Central MO
ATTACH;FMTTYPE=image/png:https://ranken.edu/wp-content/uploads/2024/05/Calendar-Spring-Start-Online-II.png
GEO:38.766329865225;-92.251480558212
X-APPLE-STRUCTURED-LOCATION;VALUE=URI;X-ADDRESS=Ranken – Central MO 975 Perry Avenue Ashland MO 65010 United States;X-APPLE-RADIUS=500;X-TITLE=975 Perry Avenue:geo:-92.251480558212,38.766329865225
END:VEVENT
BEGIN:VEVENT
DTSTART;TZID=America/Chicago:20270309T121000
DTEND;TZID=America/Chicago:20270309T124000
DTSTAMP:20260425T201012
CREATED:20260209T012619Z
LAST-MODIFIED:20260209T012619Z
UID:10001125-1804594200-1804596000@ranken.edu
SUMMARY:Phi Theta Kappa Mtg
DESCRIPTION:Phi Theta Kappa Mtg
URL:https://ranken.edu/event/phi-theta-kappa-mtg-7/
LOCATION:Virtual (Online)
CATEGORIES:Ranken's Calendar,Student Events,Ranken St. Louis,Ranken West,Ranken Southeast,Ranken Central MO
ATTACH;FMTTYPE=image/png:https://ranken.edu/wp-content/uploads/2024/04/Default-Calendar.png
END:VEVENT
BEGIN:VEVENT
DTSTART;VALUE=DATE:20270325
DTEND;VALUE=DATE:20270326
DTSTAMP:20260425T201012
CREATED:20260209T013453Z
LAST-MODIFIED:20260209T013453Z
UID:10001126-1805932800-1806019199@ranken.edu
SUMMARY:Automotive Day
DESCRIPTION:Automotive Day
URL:https://ranken.edu/event/automotive-day/
LOCATION:Ranken – St. Louis\, 4431 Finney Avenue\, St. Louis\, MO\, 63113\, United States
CATEGORIES:Ranken's Calendar,Student Events,Ranken St. Louis
ATTACH;FMTTYPE=image/png:https://ranken.edu/wp-content/uploads/2024/06/Calendar-Automotive-Day.png
ORGANIZER;CN="Admissions Office":MAILTO:admissions@ranken.edu
GEO:38.6532031;-90.248516
X-APPLE-STRUCTURED-LOCATION;VALUE=URI;X-ADDRESS=Ranken – St. Louis 4431 Finney Avenue St. Louis MO 63113 United States;X-APPLE-RADIUS=500;X-TITLE=4431 Finney Avenue:geo:-90.248516,38.6532031
END:VEVENT
BEGIN:VEVENT
DTSTART;VALUE=DATE:20270326
DTEND;VALUE=DATE:20270327
DTSTAMP:20260425T201012
CREATED:20260209T013736Z
LAST-MODIFIED:20260209T013736Z
UID:10001127-1806019200-1806105599@ranken.edu
SUMMARY:All School Holiday - Good Friday
DESCRIPTION:All School Holiday – Good Friday
URL:https://ranken.edu/event/all-school-holiday-good-friday-3/
LOCATION:Ranken – Central MO\, 975 Perry Avenue\, Ashland\, MO\, 65010\, United States
CATEGORIES:Ranken's Calendar,Student Events,Ranken St. Louis,Ranken West,Ranken Southeast,Ranken Central MO,All School Holidays
ATTACH;FMTTYPE=image/png:https://ranken.edu/wp-content/uploads/2024/05/Calendar-Good-Friday.png
GEO:38.766329865225;-92.251480558212
X-APPLE-STRUCTURED-LOCATION;VALUE=URI;X-ADDRESS=Ranken – Central MO 975 Perry Avenue Ashland MO 65010 United States;X-APPLE-RADIUS=500;X-TITLE=975 Perry Avenue:geo:-92.251480558212,38.766329865225
END:VEVENT
BEGIN:VEVENT
DTSTART;VALUE=DATE:20270401
DTEND;VALUE=DATE:20270402
DTSTAMP:20260425T201012
CREATED:20260209T014000Z
LAST-MODIFIED:20260209T014000Z
UID:10001128-1806537600-1806623999@ranken.edu
SUMMARY:Shadow-A-Tech
DESCRIPTION:Shadow-A-Tech
URL:https://ranken.edu/event/shadow-a-tech-11/
LOCATION:Ranken – Central MO\, 975 Perry Avenue\, Ashland\, MO\, 65010\, United States
CATEGORIES:Ranken's Calendar,Admissions,Shadow-A-Tech,Ranken St. Louis,Ranken West,Ranken Southeast,Ranken Central MO
ATTACH;FMTTYPE=image/png:https://ranken.edu/wp-content/uploads/2024/04/Calendar-Shadow-A-Tech.png
ORGANIZER;CN="Admissions Office":MAILTO:admissions@ranken.edu
GEO:38.766329865225;-92.251480558212
X-APPLE-STRUCTURED-LOCATION;VALUE=URI;X-ADDRESS=Ranken – Central MO 975 Perry Avenue Ashland MO 65010 United States;X-APPLE-RADIUS=500;X-TITLE=975 Perry Avenue:geo:-92.251480558212,38.766329865225
END:VEVENT
BEGIN:VEVENT
DTSTART;TZID=America/Chicago:20270407T121000
DTEND;TZID=America/Chicago:20270407T124000
DTSTAMP:20260425T201012
CREATED:20260209T014149Z
LAST-MODIFIED:20260209T014149Z
UID:10001129-1807099800-1807101600@ranken.edu
SUMMARY:Phi Theta Kappa Mtg
DESCRIPTION:Phi Theta Kappa Mtg
URL:https://ranken.edu/event/phi-theta-kappa-mtg-8/
LOCATION:Virtual (Online)
CATEGORIES:Ranken's Calendar,Student Events,Ranken St. Louis,Ranken West,Ranken Southeast,Ranken Central MO
ATTACH;FMTTYPE=image/png:https://ranken.edu/wp-content/uploads/2024/04/Default-Calendar.png
END:VEVENT
BEGIN:VEVENT
DTSTART;VALUE=DATE:20270408
DTEND;VALUE=DATE:20270409
DTSTAMP:20260425T201012
CREATED:20260209T014325Z
LAST-MODIFIED:20260209T014325Z
UID:10001130-1807142400-1807228799@ranken.edu
SUMMARY:Spring Open Houses - Satellite Locations
DESCRIPTION:Spring Open Houses – Satellite Locations
URL:https://ranken.edu/event/spring-open-houses-satellite-locations/
LOCATION:Ranken – Central MO\, 975 Perry Avenue\, Ashland\, MO\, 65010\, United States
CATEGORIES:Ranken's Calendar,Admissions,Ranken St. Louis,Open House,Ranken West,Ranken Southeast
ATTACH;FMTTYPE=image/png:https://ranken.edu/wp-content/uploads/2025/05/Spring-Open-Houses.png
ORGANIZER;CN="Admissions Office":MAILTO:admissions@ranken.edu
GEO:38.766329865225;-92.251480558212
X-APPLE-STRUCTURED-LOCATION;VALUE=URI;X-ADDRESS=Ranken – Central MO 975 Perry Avenue Ashland MO 65010 United States;X-APPLE-RADIUS=500;X-TITLE=975 Perry Avenue:geo:-92.251480558212,38.766329865225
END:VEVENT
BEGIN:VEVENT
DTSTART;TZID=America/Chicago:20270410T080000
DTEND;TZID=America/Chicago:20270410T120000
DTSTAMP:20260425T201012
CREATED:20260209T014717Z
LAST-MODIFIED:20260209T014717Z
UID:10001131-1807344000-1807358400@ranken.edu
SUMMARY:Spring Discover Ranken Day with Car Show
DESCRIPTION:Spring Discover Ranken Day with Car Show
URL:https://ranken.edu/event/spring-discover-ranken-day-with-car-show-2/
LOCATION:Ranken – St. Louis\, 4431 Finney Avenue\, St. Louis\, MO\, 63113\, United States
CATEGORIES:Ranken's Calendar,Admissions,Ranken St. Louis,Open House,Ranken Central MO
ATTACH;FMTTYPE=image/png:https://ranken.edu/wp-content/uploads/2024/06/Calendar-Spring-DRD.png
ORGANIZER;CN="Admissions Office":MAILTO:admissions@ranken.edu
GEO:38.6532031;-90.248516
X-APPLE-STRUCTURED-LOCATION;VALUE=URI;X-ADDRESS=Ranken – St. Louis 4431 Finney Avenue St. Louis MO 63113 United States;X-APPLE-RADIUS=500;X-TITLE=4431 Finney Avenue:geo:-90.248516,38.6532031
END:VEVENT
END:VCALENDAR