BEGIN:VCALENDAR
VERSION:2.0
PRODID:-//Ranken Technical College - ECPv6.15.20//NONSGML v1.0//EN
CALSCALE:GREGORIAN
METHOD:PUBLISH
X-WR-CALNAME:Ranken Events Calendar
X-ORIGINAL-URL:https://ranken.edu
X-WR-CALDESC:Events for Ranken Technical College
REFRESH-INTERVAL;VALUE=DURATION:PT1H
X-Robots-Tag:noindex
X-PUBLISHED-TTL:PT1H
BEGIN:VTIMEZONE
TZID:America/Chicago
BEGIN:DAYLIGHT
TZOFFSETFROM:-0600
TZOFFSETTO:-0500
TZNAME:CDT
DTSTART:20250309T080000
END:DAYLIGHT
BEGIN:STANDARD
TZOFFSETFROM:-0500
TZOFFSETTO:-0600
TZNAME:CST
DTSTART:20251102T070000
END:STANDARD
BEGIN:DAYLIGHT
TZOFFSETFROM:-0600
TZOFFSETTO:-0500
TZNAME:CDT
DTSTART:20260308T080000
END:DAYLIGHT
BEGIN:STANDARD
TZOFFSETFROM:-0500
TZOFFSETTO:-0600
TZNAME:CST
DTSTART:20261101T070000
END:STANDARD
BEGIN:DAYLIGHT
TZOFFSETFROM:-0600
TZOFFSETTO:-0500
TZNAME:CDT
DTSTART:20270314T080000
END:DAYLIGHT
BEGIN:STANDARD
TZOFFSETFROM:-0500
TZOFFSETTO:-0600
TZNAME:CST
DTSTART:20271107T070000
END:STANDARD
END:VTIMEZONE
BEGIN:VEVENT
DTSTART;TZID=America/Chicago:20260803T090000
DTEND;TZID=America/Chicago:20260803T103000
DTSTAMP:20260420T205017
CREATED:20260120T183221Z
LAST-MODIFIED:20260209T165250Z
UID:10001066-1785747600-1785753000@ranken.edu
SUMMARY:Ranken Ready (Fall 2026 starts) - STL Automotive Only
DESCRIPTION:Ranken Ready (Fall 2026 starts)-St. Louis Automotive only
URL:https://ranken.edu/event/ranken-ready-fall-2026-starts-automotive-stl/
LOCATION:Virtual (Online)
CATEGORIES:Ranken's Calendar,Student Events,Ranken St. Louis
ATTACH;FMTTYPE=image/png:https://ranken.edu/wp-content/uploads/2025/05/Calendar-Ranken-Ready-General.png
END:VEVENT
BEGIN:VEVENT
DTSTART;TZID=America/Chicago:20260804T090000
DTEND;TZID=America/Chicago:20260804T103000
DTSTAMP:20260420T205017
CREATED:20260131T174020Z
LAST-MODIFIED:20260209T165452Z
UID:10001068-1785834000-1785839400@ranken.edu
SUMMARY:Ranken Ready (Fall 2026 starts)- STL Electrical Only
DESCRIPTION:Ranken Ready (Fall 2026 starts)- STL Electrical Only
URL:https://ranken.edu/event/ranken-ready-fall-2026-starts-stl-electrical-only/
LOCATION:Virtual (Online)
CATEGORIES:Ranken's Calendar,Student Events,Ranken St. Louis,New Student Orientation
ATTACH;FMTTYPE=image/png:https://ranken.edu/wp-content/uploads/2025/05/Calendar-Ranken-Ready-General.png
END:VEVENT
BEGIN:VEVENT
DTSTART;TZID=America/Chicago:20260805T090000
DTEND;TZID=America/Chicago:20260805T103000
DTSTAMP:20260420T205017
CREATED:20260131T174307Z
LAST-MODIFIED:20260209T165526Z
UID:10001069-1785920400-1785925800@ranken.edu
SUMMARY:Ranken Ready (Fall 2026 starts) - STL Construction Only
DESCRIPTION:Ranken Ready (Fall 2026 starts) – STL Construction Only
URL:https://ranken.edu/event/ranken-ready-fall-2026-starts-stl-construction-only/
LOCATION:Virtual (Online)
CATEGORIES:Ranken's Calendar,Student Events,Ranken St. Louis,New Student Orientation
ATTACH;FMTTYPE=image/png:https://ranken.edu/wp-content/uploads/2025/05/Calendar-Ranken-Ready-General.png
END:VEVENT
BEGIN:VEVENT
DTSTART;TZID=America/Chicago:20260806T090000
DTEND;TZID=America/Chicago:20260806T103000
DTSTAMP:20260420T205017
CREATED:20260131T174615Z
LAST-MODIFIED:20260209T165600Z
UID:10001070-1786006800-1786012200@ranken.edu
SUMMARY:Ranken Ready (Fall 2026 starts)- All Divisions All Satellite Locations
DESCRIPTION:Ranken Ready (Fall 2026 starts)- All Divisions All Satellite Locations. West\, Southeast\, CentralMO
URL:https://ranken.edu/event/ranken-ready-fall-2026-starts-all-divisions-all-satellite-locations/
LOCATION:Virtual (Online)
CATEGORIES:Ranken's Calendar,Student Events,New Student Orientation,Ranken West,Ranken Southeast,Ranken Central MO
ATTACH;FMTTYPE=image/png:https://ranken.edu/wp-content/uploads/2025/05/Calendar-Ranken-Ready-General.png
END:VEVENT
END:VCALENDAR