BEGIN:VCALENDAR
VERSION:2.0
PRODID:-//Ranken Technical College - ECPv6.15.20//NONSGML v1.0//EN
CALSCALE:GREGORIAN
METHOD:PUBLISH
X-WR-CALNAME:Ranken Events Calendar
X-ORIGINAL-URL:https://ranken.edu
X-WR-CALDESC:Events for Ranken Technical College
REFRESH-INTERVAL;VALUE=DURATION:PT1H
X-Robots-Tag:noindex
X-PUBLISHED-TTL:PT1H
BEGIN:VTIMEZONE
TZID:America/Chicago
BEGIN:DAYLIGHT
TZOFFSETFROM:-0600
TZOFFSETTO:-0500
TZNAME:CDT
DTSTART:20260308T080000
END:DAYLIGHT
BEGIN:STANDARD
TZOFFSETFROM:-0500
TZOFFSETTO:-0600
TZNAME:CST
DTSTART:20261101T070000
END:STANDARD
BEGIN:DAYLIGHT
TZOFFSETFROM:-0600
TZOFFSETTO:-0500
TZNAME:CDT
DTSTART:20270314T080000
END:DAYLIGHT
BEGIN:STANDARD
TZOFFSETFROM:-0500
TZOFFSETTO:-0600
TZNAME:CST
DTSTART:20271107T070000
END:STANDARD
BEGIN:DAYLIGHT
TZOFFSETFROM:-0600
TZOFFSETTO:-0500
TZNAME:CDT
DTSTART:20280312T080000
END:DAYLIGHT
BEGIN:STANDARD
TZOFFSETFROM:-0500
TZOFFSETTO:-0600
TZNAME:CST
DTSTART:20281105T070000
END:STANDARD
END:VTIMEZONE
BEGIN:VEVENT
DTSTART;VALUE=DATE:20270401
DTEND;VALUE=DATE:20270402
DTSTAMP:20260421T173222
CREATED:20260209T014000Z
LAST-MODIFIED:20260209T014000Z
UID:10001128-1806537600-1806623999@ranken.edu
SUMMARY:Shadow-A-Tech
DESCRIPTION:Shadow-A-Tech
URL:https://ranken.edu/event/shadow-a-tech-11/
LOCATION:Ranken – Central MO\, 975 Perry Avenue\, Ashland\, MO\, 65010\, United States
CATEGORIES:Shadow-A-Tech,Ranken St. Louis,Ranken West,Ranken Southeast,Ranken Central MO,Ranken's Calendar,Admissions
ATTACH;FMTTYPE=image/png:https://ranken.edu/wp-content/uploads/2024/04/Calendar-Shadow-A-Tech.png
ORGANIZER;CN="Admissions Office":MAILTO:admissions@ranken.edu
GEO:38.766329865225;-92.251480558212
X-APPLE-STRUCTURED-LOCATION;VALUE=URI;X-ADDRESS=Ranken – Central MO 975 Perry Avenue Ashland MO 65010 United States;X-APPLE-RADIUS=500;X-TITLE=975 Perry Avenue:geo:-92.251480558212,38.766329865225
END:VEVENT
BEGIN:VEVENT
DTSTART;TZID=America/Chicago:20270407T121000
DTEND;TZID=America/Chicago:20270407T124000
DTSTAMP:20260421T173222
CREATED:20260209T014149Z
LAST-MODIFIED:20260209T014149Z
UID:10001129-1807099800-1807101600@ranken.edu
SUMMARY:Phi Theta Kappa Mtg
DESCRIPTION:Phi Theta Kappa Mtg
URL:https://ranken.edu/event/phi-theta-kappa-mtg-8/
LOCATION:Virtual (Online)
CATEGORIES:Ranken St. Louis,Ranken West,Ranken Southeast,Ranken Central MO,Ranken's Calendar,Student Events
ATTACH;FMTTYPE=image/png:https://ranken.edu/wp-content/uploads/2024/04/Default-Calendar.png
END:VEVENT
BEGIN:VEVENT
DTSTART;VALUE=DATE:20270408
DTEND;VALUE=DATE:20270409
DTSTAMP:20260421T173222
CREATED:20260209T014325Z
LAST-MODIFIED:20260209T014325Z
UID:10001130-1807142400-1807228799@ranken.edu
SUMMARY:Spring Open Houses - Satellite Locations
DESCRIPTION:Spring Open Houses – Satellite Locations
URL:https://ranken.edu/event/spring-open-houses-satellite-locations/
LOCATION:Ranken – Central MO\, 975 Perry Avenue\, Ashland\, MO\, 65010\, United States
CATEGORIES:Ranken St. Louis,Open House,Ranken West,Ranken Southeast,Ranken's Calendar,Admissions
ATTACH;FMTTYPE=image/png:https://ranken.edu/wp-content/uploads/2025/05/Spring-Open-Houses.png
ORGANIZER;CN="Admissions Office":MAILTO:admissions@ranken.edu
GEO:38.766329865225;-92.251480558212
X-APPLE-STRUCTURED-LOCATION;VALUE=URI;X-ADDRESS=Ranken – Central MO 975 Perry Avenue Ashland MO 65010 United States;X-APPLE-RADIUS=500;X-TITLE=975 Perry Avenue:geo:-92.251480558212,38.766329865225
END:VEVENT
BEGIN:VEVENT
DTSTART;TZID=America/Chicago:20270410T080000
DTEND;TZID=America/Chicago:20270410T120000
DTSTAMP:20260421T173222
CREATED:20260209T014717Z
LAST-MODIFIED:20260209T014717Z
UID:10001131-1807344000-1807358400@ranken.edu
SUMMARY:Spring Discover Ranken Day with Car Show
DESCRIPTION:Spring Discover Ranken Day with Car Show
URL:https://ranken.edu/event/spring-discover-ranken-day-with-car-show-2/
LOCATION:Ranken – St. Louis\, 4431 Finney Avenue\, St. Louis\, MO\, 63113\, United States
CATEGORIES:Ranken St. Louis,Open House,Ranken Central MO,Ranken's Calendar,Admissions
ATTACH;FMTTYPE=image/png:https://ranken.edu/wp-content/uploads/2024/06/Calendar-Spring-DRD.png
ORGANIZER;CN="Admissions Office":MAILTO:admissions@ranken.edu
GEO:38.6532031;-90.248516
X-APPLE-STRUCTURED-LOCATION;VALUE=URI;X-ADDRESS=Ranken – St. Louis 4431 Finney Avenue St. Louis MO 63113 United States;X-APPLE-RADIUS=500;X-TITLE=4431 Finney Avenue:geo:-90.248516,38.6532031
END:VEVENT
BEGIN:VEVENT
DTSTART;TZID=America/Chicago:20270415T110000
DTEND;TZID=America/Chicago:20270415T130000
DTSTAMP:20260421T173222
CREATED:20260209T014917Z
LAST-MODIFIED:20260209T014936Z
UID:10001132-1807786800-1807794000@ranken.edu
SUMMARY:Scholarship Luncheon
DESCRIPTION:Scholarship Luncheon
URL:https://ranken.edu/event/scholarship-luncheon-2/
LOCATION:Ranken – St. Louis\, 4431 Finney Avenue\, St. Louis\, MO\, 63113\, United States
CATEGORIES:Ranken's Calendar,Ranken St. Louis
ATTACH;FMTTYPE=image/png:https://ranken.edu/wp-content/uploads/2025/05/Scholarship-Lunch.png
GEO:38.6532031;-90.248516
X-APPLE-STRUCTURED-LOCATION;VALUE=URI;X-ADDRESS=Ranken – St. Louis 4431 Finney Avenue St. Louis MO 63113 United States;X-APPLE-RADIUS=500;X-TITLE=4431 Finney Avenue:geo:-90.248516,38.6532031
END:VEVENT
BEGIN:VEVENT
DTSTART;VALUE=DATE:20270422
DTEND;VALUE=DATE:20270423
DTSTAMP:20260421T173222
CREATED:20260209T015827Z
LAST-MODIFIED:20260209T015954Z
UID:10001135-1808352000-1808438399@ranken.edu
SUMMARY:NC3 National Signing Day
DESCRIPTION:NC3 National Signing Day
URL:https://ranken.edu/event/nc3-national-signing-day/
LOCATION:Ranken – St. Louis\, 4431 Finney Avenue\, St. Louis\, MO\, 63113\, United States
CATEGORIES:Ranken St. Louis,Ranken's Calendar,Admissions
ATTACH;FMTTYPE=image/png:https://ranken.edu/wp-content/uploads/2024/05/NSD-LOGO-NO-YEAR-1-scaled-e1767985021801.png
ORGANIZER;CN="Admissions Office":MAILTO:admissions@ranken.edu
GEO:38.6532031;-90.248516
X-APPLE-STRUCTURED-LOCATION;VALUE=URI;X-ADDRESS=Ranken – St. Louis 4431 Finney Avenue St. Louis MO 63113 United States;X-APPLE-RADIUS=500;X-TITLE=4431 Finney Avenue:geo:-90.248516,38.6532031
END:VEVENT
BEGIN:VEVENT
DTSTART;VALUE=DATE:20270427
DTEND;VALUE=DATE:20270428
DTSTAMP:20260421T173222
CREATED:20260209T015150Z
LAST-MODIFIED:20260209T015150Z
UID:10001133-1808784000-1808870399@ranken.edu
SUMMARY:Spring Semester Ends (T/Th Eve)
DESCRIPTION:Spring Semester Ends (T/Th Eve)
URL:https://ranken.edu/event/spring-semester-ends-t-th-eve-3/
LOCATION:Ranken – Central MO\, 975 Perry Avenue\, Ashland\, MO\, 65010\, United States
CATEGORIES:Ranken St. Louis,Ranken West,Ranken Southeast,Ranken Central MO,Ranken's Calendar,Student Events
ATTACH;FMTTYPE=image/png:https://ranken.edu/wp-content/uploads/2024/06/Calendar-Spring-Ends-TTH-Evening.png
GEO:38.766329865225;-92.251480558212
X-APPLE-STRUCTURED-LOCATION;VALUE=URI;X-ADDRESS=Ranken – Central MO 975 Perry Avenue Ashland MO 65010 United States;X-APPLE-RADIUS=500;X-TITLE=975 Perry Avenue:geo:-92.251480558212,38.766329865225
END:VEVENT
BEGIN:VEVENT
DTSTART;VALUE=DATE:20270428
DTEND;VALUE=DATE:20270429
DTSTAMP:20260421T173222
CREATED:20260209T015611Z
LAST-MODIFIED:20260209T015611Z
UID:10001134-1808870400-1808956799@ranken.edu
SUMMARY:Spring Semester Ends (Online II)
DESCRIPTION:Spring Semester Ends (Online II)
URL:https://ranken.edu/event/spring-semester-ends-online-ii/
LOCATION:Ranken – Central MO\, 975 Perry Avenue\, Ashland\, MO\, 65010\, United States
CATEGORIES:Ranken St. Louis,Ranken West,Ranken Southeast,Ranken Central MO,Ranken's Calendar,Student Events
ATTACH;FMTTYPE=image/png:https://ranken.edu/wp-content/uploads/2026/02/Calendar-Spring-Ends-Online-II.png
GEO:38.766329865225;-92.251480558212
X-APPLE-STRUCTURED-LOCATION;VALUE=URI;X-ADDRESS=Ranken – Central MO 975 Perry Avenue Ashland MO 65010 United States;X-APPLE-RADIUS=500;X-TITLE=975 Perry Avenue:geo:-92.251480558212,38.766329865225
END:VEVENT
BEGIN:VEVENT
DTSTART;VALUE=DATE:20270430
DTEND;VALUE=DATE:20270501
DTSTAMP:20260421T173222
CREATED:20260209T020151Z
LAST-MODIFIED:20260209T020151Z
UID:10001136-1809043200-1809129599@ranken.edu
SUMMARY:Spring Semester Ends (Day)
DESCRIPTION:Spring Semester Ends (Day)
URL:https://ranken.edu/event/spring-semester-ends-day-3/
LOCATION:Ranken – Central MO\, 975 Perry Avenue\, Ashland\, MO\, 65010\, United States
CATEGORIES:Ranken St. Louis,Ranken West,Ranken Southeast,Ranken Central MO,Ranken's Calendar,Student Events
ATTACH;FMTTYPE=image/png:https://ranken.edu/wp-content/uploads/2024/06/Calendar-Spring-Ends-Day.png
GEO:38.766329865225;-92.251480558212
X-APPLE-STRUCTURED-LOCATION;VALUE=URI;X-ADDRESS=Ranken – Central MO 975 Perry Avenue Ashland MO 65010 United States;X-APPLE-RADIUS=500;X-TITLE=975 Perry Avenue:geo:-92.251480558212,38.766329865225
END:VEVENT
END:VCALENDAR