BEGIN:VCALENDAR
VERSION:2.0
PRODID:-//Ranken Technical College - ECPv6.15.20//NONSGML v1.0//EN
CALSCALE:GREGORIAN
METHOD:PUBLISH
X-WR-CALNAME:Ranken Events Calendar
X-ORIGINAL-URL:https://ranken.edu
X-WR-CALDESC:Events for Ranken Technical College
REFRESH-INTERVAL;VALUE=DURATION:PT1H
X-Robots-Tag:noindex
X-PUBLISHED-TTL:PT1H
BEGIN:VTIMEZONE
TZID:America/Chicago
BEGIN:DAYLIGHT
TZOFFSETFROM:-0600
TZOFFSETTO:-0500
TZNAME:CDT
DTSTART:20240310T080000
END:DAYLIGHT
BEGIN:STANDARD
TZOFFSETFROM:-0500
TZOFFSETTO:-0600
TZNAME:CST
DTSTART:20241103T070000
END:STANDARD
BEGIN:DAYLIGHT
TZOFFSETFROM:-0600
TZOFFSETTO:-0500
TZNAME:CDT
DTSTART:20250309T080000
END:DAYLIGHT
BEGIN:STANDARD
TZOFFSETFROM:-0500
TZOFFSETTO:-0600
TZNAME:CST
DTSTART:20251102T070000
END:STANDARD
BEGIN:DAYLIGHT
TZOFFSETFROM:-0600
TZOFFSETTO:-0500
TZNAME:CDT
DTSTART:20260308T080000
END:DAYLIGHT
BEGIN:STANDARD
TZOFFSETFROM:-0500
TZOFFSETTO:-0600
TZNAME:CST
DTSTART:20261101T070000
END:STANDARD
END:VTIMEZONE
BEGIN:VEVENT
DTSTART;TZID=America/Chicago:20250912T080000
DTEND;TZID=America/Chicago:20250912T100000
DTSTAMP:20260420T204503
CREATED:20250512T145928Z
LAST-MODIFIED:20250613T171152Z
UID:10000935-1757664000-1757671200@ranken.edu
SUMMARY:Ranken Experience (St. Louis)
DESCRIPTION:At the Ranken Experience\, you will have a chance to discover Ranken and its latest updates\, while also meeting in person with faculty and staff. Light continental refreshments will be provided. Tours will be offered. Attendance is free of charge.\n\nRegister Here!
URL:https://ranken.edu/event/ranken-experience-5/
LOCATION:Ranken – St. Louis\, 4431 Finney Avenue\, St. Louis\, MO\, 63113\, United States
CATEGORIES:Ranken's Calendar,Ranken St. Louis,Ranken Experience,St. Louis Ranken Experience
ATTACH;FMTTYPE=image/png:https://ranken.edu/wp-content/uploads/2024/05/Calendar-Ranken-Experience.png
GEO:38.6532031;-90.248516
X-APPLE-STRUCTURED-LOCATION;VALUE=URI;X-ADDRESS=Ranken – St. Louis 4431 Finney Avenue St. Louis MO 63113 United States;X-APPLE-RADIUS=500;X-TITLE=4431 Finney Avenue:geo:-90.248516,38.6532031
END:VEVENT
BEGIN:VEVENT
DTSTART;TZID=America/Chicago:20250919T080000
DTEND;TZID=America/Chicago:20250919T093000
DTSTAMP:20260420T204503
CREATED:20250613T154807Z
LAST-MODIFIED:20250613T161818Z
UID:10001048-1758268800-1758274200@ranken.edu
SUMMARY:Ranken Experience (Ranken - Southeast)
DESCRIPTION:At the Ranken Experience\, you will have a chance to discover Ranken and its latest updates\, while also meeting in person with faculty and staff. Light continental refreshments will be provided. Tours will be offered. Attendance is free of charge.\n\nRegister Here!
URL:https://ranken.edu/event/ranken-experience-at-ranken-southeast-2/
LOCATION:Ranken – Southeast\, 1907 N. Perryville Blvd.\, Perryville\, MO\, 63775\, United States
CATEGORIES:Ranken's Calendar,Student Events,Employer Events,Ranken Southeast,Ranken Experience,Ranken Southeast Ranken Experience
ATTACH;FMTTYPE=image/png:https://ranken.edu/wp-content/uploads/2025/05/Ranken-Job-Fair-Experience.png
GEO:37.74545318755;-89.866128687284
X-APPLE-STRUCTURED-LOCATION;VALUE=URI;X-ADDRESS=Ranken – Southeast 1907 N. Perryville Blvd. Perryville MO 63775 United States;X-APPLE-RADIUS=500;X-TITLE=1907 N. Perryville Blvd.:geo:-89.866128687284,37.74545318755
END:VEVENT
BEGIN:VEVENT
DTSTART;TZID=America/Chicago:20250919T103000
DTEND;TZID=America/Chicago:20250919T120000
DTSTAMP:20260420T204503
CREATED:20250512T152413Z
LAST-MODIFIED:20250613T161903Z
UID:10000938-1758277800-1758283200@ranken.edu
SUMMARY:Job Fair (Ranken - Southeast)
DESCRIPTION:At the Job Fair\, you’ll have an opportunity to meet face-to-face with the future pipeline to your workforce. This is also a great time to network with other employers. Attendance is free of charge.\n\nRegister Here!
URL:https://ranken.edu/event/job-fair-ranken-experience-at-ranken-southeast/
LOCATION:Ranken – Southeast\, 1907 N. Perryville Blvd.\, Perryville\, MO\, 63775\, United States
CATEGORIES:Ranken's Calendar,Employer Events,Ranken Southeast,Ranken Southeast Job Fair,Ranken Experience,Ranken Southeast Ranken Experience
ATTACH;FMTTYPE=image/png:https://ranken.edu/wp-content/uploads/2025/05/Ranken-Job-Fair-Experience.png
GEO:37.74545318755;-89.866128687284
X-APPLE-STRUCTURED-LOCATION;VALUE=URI;X-ADDRESS=Ranken – Southeast 1907 N. Perryville Blvd. Perryville MO 63775 United States;X-APPLE-RADIUS=500;X-TITLE=1907 N. Perryville Blvd.:geo:-89.866128687284,37.74545318755
END:VEVENT
BEGIN:VEVENT
DTSTART;TZID=America/Chicago:20250925T080000
DTEND;TZID=America/Chicago:20250925T093000
DTSTAMP:20260420T204503
CREATED:20250613T141155Z
LAST-MODIFIED:20250625T175056Z
UID:10001043-1758787200-1758792600@ranken.edu
SUMMARY:Ranken Experience (Ranken – CentralMO)
DESCRIPTION:At the Ranken Experience\, you will have a chance to discover Ranken and its latest updates\, while also meeting in person with faculty and staff. Light continental refreshments will be provided. Tours will be offered. Attendance is free of charge. \nRegister Here!
URL:https://ranken.edu/event/ranken-experience-at-ranken-centralmo/
LOCATION:Ranken – Central MO\, 975 Perry Avenue\, Ashland\, MO\, 65010\, United States
CATEGORIES:Student Events,Employer Events,Ranken Experience,Ranken Central MO Ranken Experience
ATTACH;FMTTYPE=image/png:https://ranken.edu/wp-content/uploads/2025/05/Ranken-Job-Fair-Experience-CentralMO.png
GEO:38.766329865225;-92.251480558212
X-APPLE-STRUCTURED-LOCATION;VALUE=URI;X-ADDRESS=Ranken – Central MO 975 Perry Avenue Ashland MO 65010 United States;X-APPLE-RADIUS=500;X-TITLE=975 Perry Avenue:geo:-92.251480558212,38.766329865225
END:VEVENT
BEGIN:VEVENT
DTSTART;TZID=America/Chicago:20250925T103000
DTEND;TZID=America/Chicago:20250925T120000
DTSTAMP:20260420T204503
CREATED:20250512T153328Z
LAST-MODIFIED:20250613T162046Z
UID:10000939-1758796200-1758801600@ranken.edu
SUMMARY:Job Fair (Ranken - CentralMO)
DESCRIPTION:At the Job Fair\, you’ll have an opportunity to meet face-to-face with the future pipeline to your workforce. This is also a great time to network with other employers. Attendance is free of charge. \n\nRegister Here!
URL:https://ranken.edu/event/job-fair-ranken-experience-at-ranken-centralmo/
LOCATION:Ranken – Central MO\, 975 Perry Avenue\, Ashland\, MO\, 65010\, United States
CATEGORIES:Employer Events,Ranken Central MO,Job Fairs,Ranken Central MO Job Fair,Ranken Experience,Ranken Central MO Ranken Experience
ATTACH;FMTTYPE=image/png:https://ranken.edu/wp-content/uploads/2025/05/Ranken-Job-Fair-Experience-CentralMO.png
GEO:38.766329865225;-92.251480558212
X-APPLE-STRUCTURED-LOCATION;VALUE=URI;X-ADDRESS=Ranken – Central MO 975 Perry Avenue Ashland MO 65010 United States;X-APPLE-RADIUS=500;X-TITLE=975 Perry Avenue:geo:-92.251480558212,38.766329865225
END:VEVENT
END:VCALENDAR