BEGIN:VCALENDAR
VERSION:2.0
PRODID:-//Ranken Technical College - ECPv6.15.20//NONSGML v1.0//EN
CALSCALE:GREGORIAN
METHOD:PUBLISH
X-WR-CALNAME:Ranken Events Calendar
X-ORIGINAL-URL:https://ranken.edu
X-WR-CALDESC:Events for Ranken Technical College
REFRESH-INTERVAL;VALUE=DURATION:PT1H
X-Robots-Tag:noindex
X-PUBLISHED-TTL:PT1H
BEGIN:VTIMEZONE
TZID:America/Chicago
BEGIN:DAYLIGHT
TZOFFSETFROM:-0600
TZOFFSETTO:-0500
TZNAME:CDT
DTSTART:20240310T080000
END:DAYLIGHT
BEGIN:STANDARD
TZOFFSETFROM:-0500
TZOFFSETTO:-0600
TZNAME:CST
DTSTART:20241103T070000
END:STANDARD
BEGIN:DAYLIGHT
TZOFFSETFROM:-0600
TZOFFSETTO:-0500
TZNAME:CDT
DTSTART:20250309T080000
END:DAYLIGHT
BEGIN:STANDARD
TZOFFSETFROM:-0500
TZOFFSETTO:-0600
TZNAME:CST
DTSTART:20251102T070000
END:STANDARD
BEGIN:DAYLIGHT
TZOFFSETFROM:-0600
TZOFFSETTO:-0500
TZNAME:CDT
DTSTART:20260308T080000
END:DAYLIGHT
BEGIN:STANDARD
TZOFFSETFROM:-0500
TZOFFSETTO:-0600
TZNAME:CST
DTSTART:20261101T070000
END:STANDARD
END:VTIMEZONE
BEGIN:VEVENT
DTSTART;VALUE=DATE:20250502
DTEND;VALUE=DATE:20250503
DTSTAMP:20260421T102501
CREATED:20240530T184642Z
LAST-MODIFIED:20240617T185305Z
UID:10000826-1746144000-1746230399@ranken.edu
SUMMARY:Spring Semester Ends (Day)
DESCRIPTION:Spring Semester Day classes end.
URL:https://ranken.edu/event/spring-semester-ends-day-2/
LOCATION:Ranken – Southeast\, 1907 N. Perryville Blvd.\, Perryville\, MO\, 63775\, United States
CATEGORIES:Ranken West,Ranken Southeast,Ranken Central MO,Ranken's Calendar,Student Events,Ranken St. Louis
ATTACH;FMTTYPE=image/png:https://ranken.edu/wp-content/uploads/2024/06/Calendar-Spring-Ends-Day.png
GEO:37.74545318755;-89.866128687284
X-APPLE-STRUCTURED-LOCATION;VALUE=URI;X-ADDRESS=Ranken – Southeast 1907 N. Perryville Blvd. Perryville MO 63775 United States;X-APPLE-RADIUS=500;X-TITLE=1907 N. Perryville Blvd.:geo:-89.866128687284,37.74545318755
END:VEVENT
BEGIN:VEVENT
DTSTART;TZID=America/Chicago:20250510T080000
DTEND;TZID=America/Chicago:20250510T093000
DTSTAMP:20260421T102501
CREATED:20240530T185017Z
LAST-MODIFIED:20250429T200559Z
UID:10000827-1746864000-1746869400@ranken.edu
SUMMARY:Golden Graduates Celebration
DESCRIPTION:
URL:https://ranken.edu/event/golden-graduates-celebration-2/
LOCATION:Chaifetz Arena\, 1 South Compton Avenue\, St. Louis\, MO\, 63103\, United States
CATEGORIES:Ranken Southeast,Ranken Central MO,Ranken's Calendar,Ranken St. Louis,Ranken West
ATTACH;FMTTYPE=image/png:https://ranken.edu/wp-content/uploads/2024/04/Calendar-Golden-Graduates.png
GEO:38.6325211;-90.2281835
X-APPLE-STRUCTURED-LOCATION;VALUE=URI;X-ADDRESS=Chaifetz Arena 1 South Compton Avenue St. Louis MO 63103 United States;X-APPLE-RADIUS=500;X-TITLE=1 South Compton Avenue:geo:-90.2281835,38.6325211
END:VEVENT
BEGIN:VEVENT
DTSTART;TZID=America/Chicago:20250510T103000
DTEND;TZID=America/Chicago:20250510T123000
DTSTAMP:20260421T102501
CREATED:20240530T185420Z
LAST-MODIFIED:20250429T200503Z
UID:10000828-1746873000-1746880200@ranken.edu
SUMMARY:Commencement Ceremony
DESCRIPTION:
URL:https://ranken.edu/event/commencement-ceremony/
LOCATION:Chaifetz Arena\, 1 South Compton Avenue\, St. Louis\, MO\, 63103\, United States
CATEGORIES:Ranken West,Ranken Southeast,Ranken Central MO,Ranken's Calendar,Student Events,Ranken St. Louis
ATTACH;FMTTYPE=image/png:https://ranken.edu/wp-content/uploads/2024/04/Calendar-Commencement.png
GEO:38.6325211;-90.2281835
X-APPLE-STRUCTURED-LOCATION;VALUE=URI;X-ADDRESS=Chaifetz Arena 1 South Compton Avenue St. Louis MO 63103 United States;X-APPLE-RADIUS=500;X-TITLE=1 South Compton Avenue:geo:-90.2281835,38.6325211
END:VEVENT
BEGIN:VEVENT
DTSTART;VALUE=DATE:20250512
DTEND;VALUE=DATE:20250513
DTSTAMP:20260421T102501
CREATED:20240530T185944Z
LAST-MODIFIED:20240530T185944Z
UID:10000829-1747008000-1747094399@ranken.edu
SUMMARY:Summer Semester Starts (Online I\, M/W Eve)
DESCRIPTION:Summer Semester Online and M/W Evening Classes Start. Here is a link to office contact information. https://ranken.edu/contact-us/
URL:https://ranken.edu/event/summer-semester-starts-online-i-m-w-eve/
LOCATION:Ranken – Southeast\, 1907 N. Perryville Blvd.\, Perryville\, MO\, 63775\, United States
CATEGORIES:Ranken West,Ranken Southeast,Ranken Central MO,Ranken's Calendar,Student Events,Ranken St. Louis
ATTACH;FMTTYPE=image/png:https://ranken.edu/wp-content/uploads/2023/07/Calendar-Summer-Start-Eve-April-26-2024-at-16.50.37.png
GEO:37.74545318755;-89.866128687284
X-APPLE-STRUCTURED-LOCATION;VALUE=URI;X-ADDRESS=Ranken – Southeast 1907 N. Perryville Blvd. Perryville MO 63775 United States;X-APPLE-RADIUS=500;X-TITLE=1907 N. Perryville Blvd.:geo:-89.866128687284,37.74545318755
END:VEVENT
BEGIN:VEVENT
DTSTART;VALUE=DATE:20250513
DTEND;VALUE=DATE:20250514
DTSTAMP:20260421T102501
CREATED:20240530T192336Z
LAST-MODIFIED:20250109T151758Z
UID:10000831-1747094400-1747180799@ranken.edu
SUMMARY:Summer Semester Starts (Summer 1\, T/Th Eve)
DESCRIPTION:Summer Semester (Summer 1\, Tuesday & Thursday Evening Classes)
URL:https://ranken.edu/event/summer-semester-starts-t-th-eve/
LOCATION:Ranken – Southeast\, 1907 N. Perryville Blvd.\, Perryville\, MO\, 63775\, United States
CATEGORIES:Ranken West,Ranken Southeast,Ranken Central MO,Ranken's Calendar,Student Events,Ranken St. Louis
ATTACH;FMTTYPE=image/png:https://ranken.edu/wp-content/uploads/2024/06/Calendar-Summer-Start-TTH-Eve.png
GEO:37.74545318755;-89.866128687284
X-APPLE-STRUCTURED-LOCATION;VALUE=URI;X-ADDRESS=Ranken – Southeast 1907 N. Perryville Blvd. Perryville MO 63775 United States;X-APPLE-RADIUS=500;X-TITLE=1907 N. Perryville Blvd.:geo:-89.866128687284,37.74545318755
END:VEVENT
BEGIN:VEVENT
DTSTART;VALUE=DATE:20250513
DTEND;VALUE=DATE:20250514
DTSTAMP:20260421T102501
CREATED:20240530T193847Z
LAST-MODIFIED:20240612T184549Z
UID:10000833-1747094400-1747180799@ranken.edu
SUMMARY:Summer Semester Starts (WTZ\, PRY\, ASH Continuing/Apprentice Dealer - Summer I)
DESCRIPTION:
URL:https://ranken.edu/event/summer-semester-starts-wtz-pry-ash-continuing-apprentice-dealer-summer-i/
LOCATION:Ranken – Southeast\, 1907 N. Perryville Blvd.\, Perryville\, MO\, 63775\, United States
CATEGORIES:Ranken Southeast,Ranken Central MO,Ranken's Calendar,Student Events,Ranken West
ATTACH;FMTTYPE=image/png:https://ranken.edu/wp-content/uploads/2024/06/Calendar-Summer-Start-WTZ-Pry-Ash.png
GEO:37.74545318755;-89.866128687284
X-APPLE-STRUCTURED-LOCATION;VALUE=URI;X-ADDRESS=Ranken – Southeast 1907 N. Perryville Blvd. Perryville MO 63775 United States;X-APPLE-RADIUS=500;X-TITLE=1907 N. Perryville Blvd.:geo:-89.866128687284,37.74545318755
END:VEVENT
BEGIN:VEVENT
DTSTART;TZID=America/Chicago:20250514T090000
DTEND;TZID=America/Chicago:20250514T103000
DTSTAMP:20260421T102501
CREATED:20240530T194926Z
LAST-MODIFIED:20250428T122536Z
UID:10000834-1747213200-1747218600@ranken.edu
SUMMARY:New Student Prep - All Satellite Locations (All Divisions)
DESCRIPTION:RSVP FOR YOUR SESSION \nAttendance is required for all first-time\, full-time day students. During this mandatory online session\, you’ll get a full introduction to Ranken’s resources\, expectations\, and support systems—setting you up for success from day one. \nPlease note: \n\nYou only need to attend New Student Prep once\, before your first semester.\nEvening and returning students are not required to participate.\nYour session assignment is based on your campus and division\n\nVIRTUAL LOGIN INSTRUCTIONS\n\nJoin Zoom Meeting\nhttps://us02web.zoom.us/j/89909388520 \nMeeting ID: 899 0938 8520
URL:https://ranken.edu/event/new-student-prep-summer-2024-starts/
LOCATION:Virtual (Online)
CATEGORIES:Ranken Southeast,Ranken's Calendar,New Student Orientation,Ranken West
ATTACH;FMTTYPE=image/png:https://ranken.edu/wp-content/uploads/2022/07/Calendar-All-Remote-Locations-Prep.png
END:VEVENT
BEGIN:VEVENT
DTSTART;VALUE=DATE:20250526
DTEND;VALUE=DATE:20250527
DTSTAMP:20260421T102501
CREATED:20240530T195146Z
LAST-MODIFIED:20250512T145724Z
UID:10000835-1748217600-1748303999@ranken.edu
SUMMARY:All School Holiday (Memorial Day)
DESCRIPTION:No classes are in session. All locations will be closed in honor of Memorial Day.
URL:https://ranken.edu/event/all-school-holiday-memorial-day-2/
LOCATION:Ranken – Southeast\, 1907 N. Perryville Blvd.\, Perryville\, MO\, 63775\, United States
CATEGORIES:Ranken West,Ranken Southeast,Ranken Central MO,All School Holidays,Ranken's Calendar,Student Events,Ranken St. Louis
ATTACH;FMTTYPE=image/png:https://ranken.edu/wp-content/uploads/2024/04/Calendar-memorial-day.png
GEO:37.74545318755;-89.866128687284
X-APPLE-STRUCTURED-LOCATION;VALUE=URI;X-ADDRESS=Ranken – Southeast 1907 N. Perryville Blvd. Perryville MO 63775 United States;X-APPLE-RADIUS=500;X-TITLE=1907 N. Perryville Blvd.:geo:-89.866128687284,37.74545318755
END:VEVENT
END:VCALENDAR