BEGIN:VCALENDAR
VERSION:2.0
PRODID:-//Ranken Technical College - ECPv6.15.20//NONSGML v1.0//EN
CALSCALE:GREGORIAN
METHOD:PUBLISH
X-ORIGINAL-URL:https://ranken.edu
X-WR-CALDESC:Events for Ranken Technical College
REFRESH-INTERVAL;VALUE=DURATION:PT1H
X-Robots-Tag:noindex
X-PUBLISHED-TTL:PT1H
BEGIN:VTIMEZONE
TZID:America/Chicago
BEGIN:DAYLIGHT
TZOFFSETFROM:-0600
TZOFFSETTO:-0500
TZNAME:CDT
DTSTART:20250309T080000
END:DAYLIGHT
BEGIN:STANDARD
TZOFFSETFROM:-0500
TZOFFSETTO:-0600
TZNAME:CST
DTSTART:20251102T070000
END:STANDARD
BEGIN:DAYLIGHT
TZOFFSETFROM:-0600
TZOFFSETTO:-0500
TZNAME:CDT
DTSTART:20260308T080000
END:DAYLIGHT
BEGIN:STANDARD
TZOFFSETFROM:-0500
TZOFFSETTO:-0600
TZNAME:CST
DTSTART:20261101T070000
END:STANDARD
BEGIN:DAYLIGHT
TZOFFSETFROM:-0600
TZOFFSETTO:-0500
TZNAME:CDT
DTSTART:20270314T080000
END:DAYLIGHT
BEGIN:STANDARD
TZOFFSETFROM:-0500
TZOFFSETTO:-0600
TZNAME:CST
DTSTART:20271107T070000
END:STANDARD
END:VTIMEZONE
BEGIN:VEVENT
DTSTART;TZID=America/Chicago:20260218T103000
DTEND;TZID=America/Chicago:20260218T120000
DTSTAMP:20260420T112530
CREATED:20250513T165939Z
LAST-MODIFIED:20250613T162439Z
UID:10000983-1771410600-1771416000@ranken.edu
SUMMARY:Job Fair (Ranken - CentralMO)
DESCRIPTION:At the Job Fair\, you’ll have an opportunity to meet face-to-face with the future pipeline to your workforce. This is also a great time to network with other employers. Attendance is free of charge.\n\nRegister Here!
URL:https://ranken.edu/event/job-fair-ranken-experience-2/
LOCATION:Ranken – Central MO\, 975 Perry Avenue\, Ashland\, MO\, 65010\, United States
CATEGORIES:Ranken's Calendar,Student Events,Employer Events,Ranken Central MO,Job Fairs,Ranken Central MO Job Fair,Ranken Experience,Ranken Central MO Ranken Experience
ATTACH;FMTTYPE=image/png:https://ranken.edu/wp-content/uploads/2025/05/Ranken-Job-Fair-Experience-CentralMO.png
GEO:38.766329865225;-92.251480558212
X-APPLE-STRUCTURED-LOCATION;VALUE=URI;X-ADDRESS=Ranken – Central MO 975 Perry Avenue Ashland MO 65010 United States;X-APPLE-RADIUS=500;X-TITLE=975 Perry Avenue:geo:-92.251480558212,38.766329865225
END:VEVENT
BEGIN:VEVENT
DTSTART;TZID=America/Chicago:20260219T103000
DTEND;TZID=America/Chicago:20260219T120000
DTSTAMP:20260420T112530
CREATED:20250513T170132Z
LAST-MODIFIED:20250613T162620Z
UID:10000984-1771497000-1771502400@ranken.edu
SUMMARY:Job Fair (Ranken - Southeast)
DESCRIPTION:At the Job Fair\, you’ll have an opportunity to meet face-to-face with the future pipeline to your workforce. This is also a great time to network with other employers. Attendance is free of charge.\n\nRegister Here!
URL:https://ranken.edu/event/job-fair-ranken-experience-3/
LOCATION:Ranken – Southeast\, 1907 N. Perryville Blvd.\, Perryville\, MO\, 63775\, United States
CATEGORIES:Ranken's Calendar,Student Events,Employer Events,Ranken Southeast,Job Fairs,Ranken Southeast Job Fair,Ranken Southeast Ranken Experience
ATTACH;FMTTYPE=image/png:https://ranken.edu/wp-content/uploads/2025/05/Ranken-Job-Fair-Experience.png
GEO:37.7489957;-89.8765769
X-APPLE-STRUCTURED-LOCATION;VALUE=URI;X-ADDRESS=Ranken – Southeast 1907 N. Perryville Blvd. Perryville MO 63775 United States;X-APPLE-RADIUS=500;X-TITLE=1907 N. Perryville Blvd.:geo:-89.8765769,37.7489957
END:VEVENT
BEGIN:VEVENT
DTSTART;TZID=America/Chicago:20260220T103000
DTEND;TZID=America/Chicago:20260220T120000
DTSTAMP:20260420T112530
CREATED:20250513T170345Z
LAST-MODIFIED:20260128T210901Z
UID:10000985-1771583400-1771588800@ranken.edu
SUMMARY:Job Fair (Ranken - West)
DESCRIPTION:At the Job Fair\, you’ll have an opportunity to meet face-to-face with the future pipeline to your workforce. This is also a great time to network with other employers. Attendance is free of charge.\n\nRegister Here!
URL:https://ranken.edu/event/job-fair-ranken-experience-4/
LOCATION:Ranken – West (Wentzville)\, 755 Parr Road\, Wentzville\, MO\, 63885\, United States
CATEGORIES:Ranken's Calendar,Student Events,Employer Events,Ranken West,Job Fairs,Ranken West Job Fair,Ranken Experience,Ranken West Ranken Experience
ATTACH;FMTTYPE=image/png:https://ranken.edu/wp-content/uploads/2025/05/Ranken-Job-Fair-Experience-West.png
GEO:38.831225;-90.8320065
X-APPLE-STRUCTURED-LOCATION;VALUE=URI;X-ADDRESS=Ranken – West (Wentzville) 755 Parr Road Wentzville MO 63885 United States;X-APPLE-RADIUS=500;X-TITLE=755 Parr Road:geo:-90.8320065,38.831225
END:VEVENT
BEGIN:VEVENT
DTSTART;TZID=America/Chicago:20260224T090000
DTEND;TZID=America/Chicago:20260224T110000
DTSTAMP:20260420T112530
CREATED:20250513T170604Z
LAST-MODIFIED:20260120T194948Z
UID:10000986-1771923600-1771930800@ranken.edu
SUMMARY:Job Fair (St. Louis) - Construction Division
DESCRIPTION:At the Job Fair\, you’ll have an opportunity to meet face-to-face with the future pipeline to your workforce. This is also a great time to network with other employers. Attendance is free of charge. \nRegister Here!
URL:https://ranken.edu/event/job-fair-construction-it-division/
LOCATION:Ranken – St. Louis\, 4431 Finney Avenue\, St. Louis\, MO\, 63113\, United States
CATEGORIES:Ranken's Calendar,Student Events,Employer Events,Ranken St. Louis,Job Fairs,IT Division Job Fair,Construction Division Job Fair,Ranken Experience,St. Louis Ranken Experience
ATTACH;FMTTYPE=image/png:https://ranken.edu/wp-content/uploads/2025/05/Job-Fair-STL.png
GEO:38.6532031;-90.248516
X-APPLE-STRUCTURED-LOCATION;VALUE=URI;X-ADDRESS=Ranken – St. Louis 4431 Finney Avenue St. Louis MO 63113 United States;X-APPLE-RADIUS=500;X-TITLE=4431 Finney Avenue:geo:-90.248516,38.6532031
END:VEVENT
BEGIN:VEVENT
DTSTART;TZID=America/Chicago:20260224T090000
DTEND;TZID=America/Chicago:20260224T110000
DTSTAMP:20260420T112530
CREATED:20250613T180319Z
LAST-MODIFIED:20250613T180319Z
UID:10001050-1771923600-1771930800@ranken.edu
SUMMARY:Job Fair (St. Louis) - IT Division
DESCRIPTION:At the Job Fair\, you’ll have an opportunity to meet face-to-face with the future pipeline to your workforce. This is also a great time to network with other employers. Attendance is free of charge.\n\nRegister Here!
URL:https://ranken.edu/event/job-fair-st-louis-it-division/
LOCATION:Ranken – St. Louis\, 4431 Finney Avenue\, St. Louis\, MO\, 63113\, United States
CATEGORIES:Ranken's Calendar,Student Events,Employer Events,Ranken St. Louis,Job Fairs,IT Division Job Fair
ATTACH;FMTTYPE=image/png:https://ranken.edu/wp-content/uploads/2025/05/Job-Fair-STL.png
GEO:38.6532031;-90.248516
X-APPLE-STRUCTURED-LOCATION;VALUE=URI;X-ADDRESS=Ranken – St. Louis 4431 Finney Avenue St. Louis MO 63113 United States;X-APPLE-RADIUS=500;X-TITLE=4431 Finney Avenue:geo:-90.248516,38.6532031
END:VEVENT
BEGIN:VEVENT
DTSTART;TZID=America/Chicago:20260225T090000
DTEND;TZID=America/Chicago:20260225T110000
DTSTAMP:20260420T112530
CREATED:20250513T171159Z
LAST-MODIFIED:20250613T182935Z
UID:10000987-1772010000-1772017200@ranken.edu
SUMMARY:Job Fair (St. Louis) - Electrical Division
DESCRIPTION:At the Job Fair\, you’ll have an opportunity to meet face-to-face with the future pipeline to your workforce. This is also a great time to network with other employers. Attendance is free of charge.\n\nRegister Here!
URL:https://ranken.edu/event/job-fair-electrical-manufacturing-division-2/
LOCATION:Ranken – St. Louis\, 4431 Finney Avenue\, St. Louis\, MO\, 63113\, United States
CATEGORIES:Ranken's Calendar,Student Events,Employer Events,Ranken St. Louis,Job Fairs,Electrical Division Job Fair
ATTACH;FMTTYPE=image/png:https://ranken.edu/wp-content/uploads/2025/05/Job-Fair-STL.png
GEO:38.6532031;-90.248516
X-APPLE-STRUCTURED-LOCATION;VALUE=URI;X-ADDRESS=Ranken – St. Louis 4431 Finney Avenue St. Louis MO 63113 United States;X-APPLE-RADIUS=500;X-TITLE=4431 Finney Avenue:geo:-90.248516,38.6532031
END:VEVENT
BEGIN:VEVENT
DTSTART;TZID=America/Chicago:20260225T090000
DTEND;TZID=America/Chicago:20260225T110000
DTSTAMP:20260420T112530
CREATED:20250613T183804Z
LAST-MODIFIED:20250613T183804Z
UID:10001052-1772010000-1772017200@ranken.edu
SUMMARY:Job Fair (St. Louis) - Manufacturing Division
DESCRIPTION:At the Job Fair\, you’ll have an opportunity to meet face-to-face with the future pipeline to your workforce. This is also a great time to network with other employers. Attendance is free of charge.\n\nRegister Here!
URL:https://ranken.edu/event/job-fair-st-louis-manufacturing-division-2/
LOCATION:Ranken – St. Louis\, 4431 Finney Avenue\, St. Louis\, MO\, 63113\, United States
CATEGORIES:Ranken's Calendar,Student Events,Employer Events,Ranken St. Louis,Job Fairs,Manufacturing Division Job Fair
ATTACH;FMTTYPE=image/png:https://ranken.edu/wp-content/uploads/2025/05/Job-Fair-STL.png
GEO:38.6532031;-90.248516
X-APPLE-STRUCTURED-LOCATION;VALUE=URI;X-ADDRESS=Ranken – St. Louis 4431 Finney Avenue St. Louis MO 63113 United States;X-APPLE-RADIUS=500;X-TITLE=4431 Finney Avenue:geo:-90.248516,38.6532031
END:VEVENT
END:VCALENDAR