BEGIN:VCALENDAR
VERSION:2.0
PRODID:-//Ranken Technical College - ECPv6.15.20//NONSGML v1.0//EN
CALSCALE:GREGORIAN
METHOD:PUBLISH
X-WR-CALNAME:Ranken Events Calendar
X-ORIGINAL-URL:https://ranken.edu
X-WR-CALDESC:Events for Ranken Technical College
REFRESH-INTERVAL;VALUE=DURATION:PT1H
X-Robots-Tag:noindex
X-PUBLISHED-TTL:PT1H
BEGIN:VTIMEZONE
TZID:America/Chicago
BEGIN:DAYLIGHT
TZOFFSETFROM:-0600
TZOFFSETTO:-0500
TZNAME:CDT
DTSTART:20250309T080000
END:DAYLIGHT
BEGIN:STANDARD
TZOFFSETFROM:-0500
TZOFFSETTO:-0600
TZNAME:CST
DTSTART:20251102T070000
END:STANDARD
BEGIN:DAYLIGHT
TZOFFSETFROM:-0600
TZOFFSETTO:-0500
TZNAME:CDT
DTSTART:20260308T080000
END:DAYLIGHT
BEGIN:STANDARD
TZOFFSETFROM:-0500
TZOFFSETTO:-0600
TZNAME:CST
DTSTART:20261101T070000
END:STANDARD
BEGIN:DAYLIGHT
TZOFFSETFROM:-0600
TZOFFSETTO:-0500
TZNAME:CDT
DTSTART:20270314T080000
END:DAYLIGHT
BEGIN:STANDARD
TZOFFSETFROM:-0500
TZOFFSETTO:-0600
TZNAME:CST
DTSTART:20271107T070000
END:STANDARD
END:VTIMEZONE
BEGIN:VEVENT
DTSTART;TZID=America/Chicago:20260623T150000
DTEND;TZID=America/Chicago:20260623T180000
DTSTAMP:20260421T002401
CREATED:20250525T163038Z
LAST-MODIFIED:20250528T200700Z
UID:10001021-1782226800-1782237600@ranken.edu
SUMMARY:Summer Open House (Central MO)
DESCRIPTION:Summer Open House at Ranken – CentralMO in Ashland\, MO
URL:https://ranken.edu/event/summer-open-house/
LOCATION:Ranken – Central MO\, 975 Perry Avenue\, Ashland\, MO\, 65010\, United States
CATEGORIES:Ranken's Calendar,Admissions,Open House,Ranken West,Ranken Southeast,Ranken Central MO
ATTACH;FMTTYPE=image/png:https://ranken.edu/wp-content/uploads/2024/09/Calendar-Open-House.png
ORGANIZER;CN="Admissions Office":MAILTO:admissions@ranken.edu
GEO:38.766329865225;-92.251480558212
X-APPLE-STRUCTURED-LOCATION;VALUE=URI;X-ADDRESS=Ranken – Central MO 975 Perry Avenue Ashland MO 65010 United States;X-APPLE-RADIUS=500;X-TITLE=975 Perry Avenue:geo:-92.251480558212,38.766329865225
END:VEVENT
BEGIN:VEVENT
DTSTART;TZID=America/Chicago:20260623T150000
DTEND;TZID=America/Chicago:20260623T180000
DTSTAMP:20260421T002401
CREATED:20250528T200759Z
LAST-MODIFIED:20250528T200759Z
UID:10001039-1782226800-1782237600@ranken.edu
SUMMARY:Summer Open House (Southeast)
DESCRIPTION:Summer Open House at Ranken – Southeast in Perryville\, MO
URL:https://ranken.edu/event/summer-open-house-southeast/
LOCATION:Ranken – Southeast\, 1907 N. Perryville Blvd.\, Perryville\, MO\, 63775\, United States
CATEGORIES:Ranken's Calendar,Admissions,Open House,Ranken West,Ranken Southeast,Ranken Central MO
ATTACH;FMTTYPE=image/png:https://ranken.edu/wp-content/uploads/2024/09/Calendar-Open-House.png
ORGANIZER;CN="Admissions Office":MAILTO:admissions@ranken.edu
GEO:37.74545318755;-89.866128687284
X-APPLE-STRUCTURED-LOCATION;VALUE=URI;X-ADDRESS=Ranken – Southeast 1907 N. Perryville Blvd. Perryville MO 63775 United States;X-APPLE-RADIUS=500;X-TITLE=1907 N. Perryville Blvd.:geo:-89.866128687284,37.74545318755
END:VEVENT
BEGIN:VEVENT
DTSTART;TZID=America/Chicago:20260623T150000
DTEND;TZID=America/Chicago:20260623T180000
DTSTAMP:20260421T002401
CREATED:20250528T200911Z
LAST-MODIFIED:20250528T200911Z
UID:10001040-1782226800-1782237600@ranken.edu
SUMMARY:Summer Open House (West)
DESCRIPTION:Summer Open House at Ranken – West in both Troy and Wentzville\, MO
URL:https://ranken.edu/event/summer-open-house-west/
LOCATION:Ranken – West (Troy)\, 651 John Deere Drive\, Troy\, MO\, 63379\, United States
CATEGORIES:Ranken's Calendar,Admissions,Open House,Ranken West,Ranken Southeast,Ranken Central MO
ATTACH;FMTTYPE=image/png:https://ranken.edu/wp-content/uploads/2024/09/Calendar-Open-House.png
ORGANIZER;CN="Admissions Office":MAILTO:admissions@ranken.edu
GEO:38.959563195542;-90.944026186507
X-APPLE-STRUCTURED-LOCATION;VALUE=URI;X-ADDRESS=Ranken – West (Troy) 651 John Deere Drive Troy MO 63379 United States;X-APPLE-RADIUS=500;X-TITLE=651 John Deere Drive:geo:-90.944026186507,38.959563195542
END:VEVENT
END:VCALENDAR