BEGIN:VCALENDAR
VERSION:2.0
PRODID:-//Ranken Technical College - ECPv6.15.20//NONSGML v1.0//EN
CALSCALE:GREGORIAN
METHOD:PUBLISH
X-WR-CALNAME:Ranken Events Calendar
X-ORIGINAL-URL:https://ranken.edu
X-WR-CALDESC:Events for Ranken Technical College
REFRESH-INTERVAL;VALUE=DURATION:PT1H
X-Robots-Tag:noindex
X-PUBLISHED-TTL:PT1H
BEGIN:VTIMEZONE
TZID:America/Chicago
BEGIN:DAYLIGHT
TZOFFSETFROM:-0600
TZOFFSETTO:-0500
TZNAME:CDT
DTSTART:20240310T080000
END:DAYLIGHT
BEGIN:STANDARD
TZOFFSETFROM:-0500
TZOFFSETTO:-0600
TZNAME:CST
DTSTART:20241103T070000
END:STANDARD
BEGIN:DAYLIGHT
TZOFFSETFROM:-0600
TZOFFSETTO:-0500
TZNAME:CDT
DTSTART:20250309T080000
END:DAYLIGHT
BEGIN:STANDARD
TZOFFSETFROM:-0500
TZOFFSETTO:-0600
TZNAME:CST
DTSTART:20251102T070000
END:STANDARD
BEGIN:DAYLIGHT
TZOFFSETFROM:-0600
TZOFFSETTO:-0500
TZNAME:CDT
DTSTART:20260308T080000
END:DAYLIGHT
BEGIN:STANDARD
TZOFFSETFROM:-0500
TZOFFSETTO:-0600
TZNAME:CST
DTSTART:20261101T070000
END:STANDARD
BEGIN:DAYLIGHT
TZOFFSETFROM:-0600
TZOFFSETTO:-0500
TZNAME:CDT
DTSTART:20270314T080000
END:DAYLIGHT
BEGIN:STANDARD
TZOFFSETFROM:-0500
TZOFFSETTO:-0600
TZNAME:CST
DTSTART:20271107T070000
END:STANDARD
END:VTIMEZONE
BEGIN:VEVENT
DTSTART;TZID=America/Chicago:20251204T083000
DTEND;TZID=America/Chicago:20251204T233000
DTSTAMP:20260420T203109
CREATED:20250512T173019Z
LAST-MODIFIED:20250902T153724Z
UID:10000955-1764837000-1764891000@ranken.edu
SUMMARY:Shadow-a-Tech (All Locations)
DESCRIPTION:Shadow-a-Tech \nRegister for your session.
URL:https://ranken.edu/event/shadow-a-tech-6/
LOCATION:Ranken – St. Louis\, 4431 Finney Avenue\, St. Louis\, MO\, 63113\, United States
CATEGORIES:Ranken Southeast,Ranken Central MO,Ranken's Calendar,Admissions,Shadow-A-Tech,Ranken St. Louis,Ranken West
ATTACH;FMTTYPE=image/png:https://ranken.edu/wp-content/uploads/2024/04/Calendar-Shadow-A-Tech.png
ORGANIZER;CN="Admissions Office":MAILTO:admissions@ranken.edu
GEO:38.6532031;-90.248516
X-APPLE-STRUCTURED-LOCATION;VALUE=URI;X-ADDRESS=Ranken – St. Louis 4431 Finney Avenue St. Louis MO 63113 United States;X-APPLE-RADIUS=500;X-TITLE=4431 Finney Avenue:geo:-90.248516,38.6532031
END:VEVENT
BEGIN:VEVENT
DTSTART;VALUE=DATE:20251210
DTEND;VALUE=DATE:20251211
DTSTAMP:20260420T203109
CREATED:20250512T183059Z
LAST-MODIFIED:20251124T160458Z
UID:10000961-1765324800-1765411199@ranken.edu
SUMMARY:Ranken Ready (Spring Starts)—Satellite Locations\, All Divisions
DESCRIPTION:This Ranken Ready event is for first-time students starting in Spring of 2026 in all divisions at all Satellite Locations—Ranken West (Wentzville & Troy)\, Ranken Central (Ashland)\, Ranken Southeast (Perryville). \nSatellite RSVP \nThis is a virtual event\, taking place via Zoom. If you do not have access to connect virtually from a personal device\, we encourage you to reach out to your Student Success Team to discuss on-campus options for connecting. \nZoom Instructions: \nhttps://us02web.zoom.us/j/81639709418 \nMeeting ID: 816 3970 9418
URL:https://ranken.edu/event/new-student-prep-spring-starts/
LOCATION:Ranken – Central MO\, 975 Perry Avenue\, Ashland\, MO\, 65010\, United States
CATEGORIES:Ranken Central MO,Ranken's Calendar,Student Events,New Student Orientation,Ranken West,Ranken Southeast
ATTACH;FMTTYPE=image/png:https://ranken.edu/wp-content/uploads/2022/07/Calendar-All-Remote-Locations-Prep.png
GEO:38.766329865225;-92.251480558212
X-APPLE-STRUCTURED-LOCATION;VALUE=URI;X-ADDRESS=Ranken – Central MO 975 Perry Avenue Ashland MO 65010 United States;X-APPLE-RADIUS=500;X-TITLE=975 Perry Avenue:geo:-92.251480558212,38.766329865225
END:VEVENT
BEGIN:VEVENT
DTSTART;VALUE=DATE:20251210
DTEND;VALUE=DATE:20251211
DTSTAMP:20260420T203109
CREATED:20250512T183557Z
LAST-MODIFIED:20250512T183557Z
UID:10000962-1765324800-1765411199@ranken.edu
SUMMARY:Phi Theta Kappa Meeting
DESCRIPTION:Phi Theta Kappa Meeting
URL:https://ranken.edu/event/phi-theta-kappa-meeting-3/
LOCATION:Ranken – Central MO\, 975 Perry Avenue\, Ashland\, MO\, 65010\, United States
CATEGORIES:Student Events,Ranken St. Louis,Ranken West,Ranken Southeast,Ranken Central MO
ATTACH;FMTTYPE=image/png:https://ranken.edu/wp-content/uploads/2024/04/Default-Calendar.png
GEO:38.766329865225;-92.251480558212
X-APPLE-STRUCTURED-LOCATION;VALUE=URI;X-ADDRESS=Ranken – Central MO 975 Perry Avenue Ashland MO 65010 United States;X-APPLE-RADIUS=500;X-TITLE=975 Perry Avenue:geo:-92.251480558212,38.766329865225
END:VEVENT
BEGIN:VEVENT
DTSTART;VALUE=DATE:20251215
DTEND;VALUE=DATE:20251216
DTSTAMP:20260420T203109
CREATED:20250512T184106Z
LAST-MODIFIED:20250512T184106Z
UID:10000964-1765756800-1765843199@ranken.edu
SUMMARY:Fall Semester Ends (M/W Eve)
DESCRIPTION:Fall Semester Ends (M/W Eve)
URL:https://ranken.edu/event/fall-semester-ends-m-w-eve-2/
LOCATION:Ranken – Central MO\, 975 Perry Avenue\, Ashland\, MO\, 65010\, United States
CATEGORIES:Ranken Central MO,Ranken's Calendar,Student Events,Ranken St. Louis,Ranken West,Ranken Southeast
ATTACH;FMTTYPE=image/png:https://ranken.edu/wp-content/uploads/2024/06/Calendar-Fall-Ends-M_W.png
GEO:38.766329865225;-92.251480558212
X-APPLE-STRUCTURED-LOCATION;VALUE=URI;X-ADDRESS=Ranken – Central MO 975 Perry Avenue Ashland MO 65010 United States;X-APPLE-RADIUS=500;X-TITLE=975 Perry Avenue:geo:-92.251480558212,38.766329865225
END:VEVENT
BEGIN:VEVENT
DTSTART;VALUE=DATE:20251218
DTEND;VALUE=DATE:20251219
DTSTAMP:20260420T203109
CREATED:20250512T185021Z
LAST-MODIFIED:20250512T185021Z
UID:10000965-1766016000-1766102399@ranken.edu
SUMMARY:Fall Semester Ends (T/Th Eve)
DESCRIPTION:Fall Semester Ends (T/Th Eve)
URL:https://ranken.edu/event/fall-semester-ends-t-th-eve-2/
LOCATION:Ranken – Central MO\, 975 Perry Avenue\, Ashland\, MO\, 65010\, United States
CATEGORIES:Ranken Central MO,Ranken's Calendar,Student Events,Ranken St. Louis,Ranken West,Ranken Southeast
ATTACH;FMTTYPE=image/png:https://ranken.edu/wp-content/uploads/2024/06/Calendar-Fall-Ends-T_TH.png
GEO:38.766329865225;-92.251480558212
X-APPLE-STRUCTURED-LOCATION;VALUE=URI;X-ADDRESS=Ranken – Central MO 975 Perry Avenue Ashland MO 65010 United States;X-APPLE-RADIUS=500;X-TITLE=975 Perry Avenue:geo:-92.251480558212,38.766329865225
END:VEVENT
BEGIN:VEVENT
DTSTART;VALUE=DATE:20251218
DTEND;VALUE=DATE:20251219
DTSTAMP:20260420T203109
CREATED:20250512T185421Z
LAST-MODIFIED:20250512T185421Z
UID:10000966-1766016000-1766102399@ranken.edu
SUMMARY:Fall Semester Ends (Day)
DESCRIPTION:Fall Semester Ends (Day)
URL:https://ranken.edu/event/fall-semester-ends-day-2/
LOCATION:Ranken – Central MO\, 975 Perry Avenue\, Ashland\, MO\, 65010\, United States
CATEGORIES:Ranken Central MO,Ranken's Calendar,Student Events,Ranken St. Louis,Ranken West,Ranken Southeast
ATTACH;FMTTYPE=image/png:https://ranken.edu/wp-content/uploads/2024/06/Calendar-Fall-Ends-Day.png
GEO:38.766329865225;-92.251480558212
X-APPLE-STRUCTURED-LOCATION;VALUE=URI;X-ADDRESS=Ranken – Central MO 975 Perry Avenue Ashland MO 65010 United States;X-APPLE-RADIUS=500;X-TITLE=975 Perry Avenue:geo:-92.251480558212,38.766329865225
END:VEVENT
BEGIN:VEVENT
DTSTART;VALUE=DATE:20251219
DTEND;VALUE=DATE:20260105
DTSTAMP:20260420T203109
CREATED:20250512T185808Z
LAST-MODIFIED:20250512T185808Z
UID:10000967-1766102400-1767571199@ranken.edu
SUMMARY:Winter Break/Student Holiday
DESCRIPTION:Winter Break/Student Holiday
URL:https://ranken.edu/event/winter-break-student-holiday/
LOCATION:Ranken – Central MO\, 975 Perry Avenue\, Ashland\, MO\, 65010\, United States
CATEGORIES:Ranken Central MO,Ranken's Calendar,Student Events,Ranken St. Louis,Ranken West,Ranken Southeast
ATTACH;FMTTYPE=image/png:https://ranken.edu/wp-content/uploads/2024/05/Calendar-Winter-Break.png
GEO:38.766329865225;-92.251480558212
X-APPLE-STRUCTURED-LOCATION;VALUE=URI;X-ADDRESS=Ranken – Central MO 975 Perry Avenue Ashland MO 65010 United States;X-APPLE-RADIUS=500;X-TITLE=975 Perry Avenue:geo:-92.251480558212,38.766329865225
END:VEVENT
BEGIN:VEVENT
DTSTART;VALUE=DATE:20251223
DTEND;VALUE=DATE:20260102
DTSTAMP:20260420T203109
CREATED:20250512T190053Z
LAST-MODIFIED:20251211T181931Z
UID:10000968-1766448000-1767311999@ranken.edu
SUMMARY:All School Holiday
DESCRIPTION:All School Holiday. All locations closed.
URL:https://ranken.edu/event/all-school-holiday-4/
LOCATION:Ranken – Central MO\, 975 Perry Avenue\, Ashland\, MO\, 65010\, United States
CATEGORIES:All School Holidays,Ranken's Calendar,Ranken St. Louis,Ranken West,Ranken Southeast,Ranken Central MO
ATTACH;FMTTYPE=image/png:https://ranken.edu/wp-content/uploads/2024/05/Calendar-Christmas.png
GEO:38.766329865225;-92.251480558212
X-APPLE-STRUCTURED-LOCATION;VALUE=URI;X-ADDRESS=Ranken – Central MO 975 Perry Avenue Ashland MO 65010 United States;X-APPLE-RADIUS=500;X-TITLE=975 Perry Avenue:geo:-92.251480558212,38.766329865225
END:VEVENT
END:VCALENDAR