BEGIN:VCALENDAR
VERSION:2.0
PRODID:-//Ranken Technical College - ECPv6.15.20//NONSGML v1.0//EN
CALSCALE:GREGORIAN
METHOD:PUBLISH
X-ORIGINAL-URL:https://ranken.edu
X-WR-CALDESC:Events for Ranken Technical College
REFRESH-INTERVAL;VALUE=DURATION:PT1H
X-Robots-Tag:noindex
X-PUBLISHED-TTL:PT1H
BEGIN:VTIMEZONE
TZID:America/Chicago
BEGIN:DAYLIGHT
TZOFFSETFROM:-0600
TZOFFSETTO:-0500
TZNAME:CDT
DTSTART:20240310T080000
END:DAYLIGHT
BEGIN:STANDARD
TZOFFSETFROM:-0500
TZOFFSETTO:-0600
TZNAME:CST
DTSTART:20241103T070000
END:STANDARD
BEGIN:DAYLIGHT
TZOFFSETFROM:-0600
TZOFFSETTO:-0500
TZNAME:CDT
DTSTART:20250309T080000
END:DAYLIGHT
BEGIN:STANDARD
TZOFFSETFROM:-0500
TZOFFSETTO:-0600
TZNAME:CST
DTSTART:20251102T070000
END:STANDARD
BEGIN:DAYLIGHT
TZOFFSETFROM:-0600
TZOFFSETTO:-0500
TZNAME:CDT
DTSTART:20260308T080000
END:DAYLIGHT
BEGIN:STANDARD
TZOFFSETFROM:-0500
TZOFFSETTO:-0600
TZNAME:CST
DTSTART:20261101T070000
END:STANDARD
END:VTIMEZONE
BEGIN:VEVENT
DTSTART;VALUE=DATE:20250901
DTEND;VALUE=DATE:20250902
DTSTAMP:20260421T201708
CREATED:20250512T145606Z
LAST-MODIFIED:20250512T202359Z
UID:10000934-1756684800-1756771199@ranken.edu
SUMMARY:All School Holiday (Labor Day)
DESCRIPTION:All School Holiday (Labor Day). All locations closed. No classes in session.
URL:https://ranken.edu/event/all-school-holiday-labor-day-2/
LOCATION:Ranken – Central MO\, 975 Perry Avenue\, Ashland\, MO\, 65010\, United States
CATEGORIES:Ranken Central MO,All School Holidays,Ranken's Calendar,Ranken St. Louis,Ranken West,Ranken Southeast
ATTACH;FMTTYPE=image/png:https://ranken.edu/wp-content/uploads/2024/05/Calendar-labor-day.png
GEO:38.766329865225;-92.251480558212
X-APPLE-STRUCTURED-LOCATION;VALUE=URI;X-ADDRESS=Ranken – Central MO 975 Perry Avenue Ashland MO 65010 United States;X-APPLE-RADIUS=500;X-TITLE=975 Perry Avenue:geo:-92.251480558212,38.766329865225
END:VEVENT
BEGIN:VEVENT
DTSTART;VALUE=DATE:20250917
DTEND;VALUE=DATE:20250918
DTSTAMP:20260421T201708
CREATED:20250512T151507Z
LAST-MODIFIED:20250512T151507Z
UID:10000937-1758067200-1758153599@ranken.edu
SUMMARY:Constitution Day
DESCRIPTION:Constitution Day. This is not an all school holiday. All classes are in session.
URL:https://ranken.edu/event/constitution-day-2/
LOCATION:MO
CATEGORIES:Ranken Central MO,Ranken's Calendar,Ranken St. Louis,Ranken West,Ranken Southeast
ATTACH;FMTTYPE=image/png:https://ranken.edu/wp-content/uploads/2024/05/Calendar-Constitution-Day.png
END:VEVENT
BEGIN:VEVENT
DTSTART;TZID=America/Chicago:20250925T103000
DTEND;TZID=America/Chicago:20250925T120000
DTSTAMP:20260421T201708
CREATED:20250512T153328Z
LAST-MODIFIED:20250613T162046Z
UID:10000939-1758796200-1758801600@ranken.edu
SUMMARY:Job Fair (Ranken - CentralMO)
DESCRIPTION:At the Job Fair\, you’ll have an opportunity to meet face-to-face with the future pipeline to your workforce. This is also a great time to network with other employers. Attendance is free of charge. \n\nRegister Here!
URL:https://ranken.edu/event/job-fair-ranken-experience-at-ranken-centralmo/
LOCATION:Ranken – Central MO\, 975 Perry Avenue\, Ashland\, MO\, 65010\, United States
CATEGORIES:Ranken Experience,Ranken Central MO Ranken Experience,Employer Events,Ranken Central MO,Job Fairs,Ranken Central MO Job Fair
ATTACH;FMTTYPE=image/png:https://ranken.edu/wp-content/uploads/2025/05/Ranken-Job-Fair-Experience-CentralMO.png
GEO:38.766329865225;-92.251480558212
X-APPLE-STRUCTURED-LOCATION;VALUE=URI;X-ADDRESS=Ranken – Central MO 975 Perry Avenue Ashland MO 65010 United States;X-APPLE-RADIUS=500;X-TITLE=975 Perry Avenue:geo:-92.251480558212,38.766329865225
END:VEVENT
END:VCALENDAR