BEGIN:VCALENDAR
VERSION:2.0
PRODID:-//Ranken Technical College - ECPv6.15.20//NONSGML v1.0//EN
CALSCALE:GREGORIAN
METHOD:PUBLISH
X-ORIGINAL-URL:https://ranken.edu
X-WR-CALDESC:Events for Ranken Technical College
REFRESH-INTERVAL;VALUE=DURATION:PT1H
X-Robots-Tag:noindex
X-PUBLISHED-TTL:PT1H
BEGIN:VTIMEZONE
TZID:America/Chicago
BEGIN:DAYLIGHT
TZOFFSETFROM:-0600
TZOFFSETTO:-0500
TZNAME:CDT
DTSTART:20240310T080000
END:DAYLIGHT
BEGIN:STANDARD
TZOFFSETFROM:-0500
TZOFFSETTO:-0600
TZNAME:CST
DTSTART:20241103T070000
END:STANDARD
BEGIN:DAYLIGHT
TZOFFSETFROM:-0600
TZOFFSETTO:-0500
TZNAME:CDT
DTSTART:20250309T080000
END:DAYLIGHT
BEGIN:STANDARD
TZOFFSETFROM:-0500
TZOFFSETTO:-0600
TZNAME:CST
DTSTART:20251102T070000
END:STANDARD
BEGIN:DAYLIGHT
TZOFFSETFROM:-0600
TZOFFSETTO:-0500
TZNAME:CDT
DTSTART:20260308T080000
END:DAYLIGHT
BEGIN:STANDARD
TZOFFSETFROM:-0500
TZOFFSETTO:-0600
TZNAME:CST
DTSTART:20261101T070000
END:STANDARD
BEGIN:DAYLIGHT
TZOFFSETFROM:-0600
TZOFFSETTO:-0500
TZNAME:CDT
DTSTART:20270314T080000
END:DAYLIGHT
BEGIN:STANDARD
TZOFFSETFROM:-0500
TZOFFSETTO:-0600
TZNAME:CST
DTSTART:20271107T070000
END:STANDARD
END:VTIMEZONE
BEGIN:VEVENT
DTSTART;VALUE=DATE:20260403
DTEND;VALUE=DATE:20260404
DTSTAMP:20260420T050507
CREATED:20250513T173714Z
LAST-MODIFIED:20250513T173737Z
UID:10000995-1775174400-1775260799@ranken.edu
SUMMARY:All School Holiday (Good Friday)
DESCRIPTION:All School Holiday (Good Friday). All locations closed. No classes in session.
URL:https://ranken.edu/event/all-school-holiday-good-friday-2/
LOCATION:Ranken – Central MO\, 975 Perry Avenue\, Ashland\, MO\, 65010\, United States
CATEGORIES:Ranken Southeast,Ranken Central MO,All School Holidays,Ranken's Calendar,Student Events,Ranken St. Louis,Ranken West
ATTACH;FMTTYPE=image/png:https://ranken.edu/wp-content/uploads/2024/05/Calendar-Good-Friday.png
GEO:38.766329865225;-92.251480558212
X-APPLE-STRUCTURED-LOCATION;VALUE=URI;X-ADDRESS=Ranken – Central MO 975 Perry Avenue Ashland MO 65010 United States;X-APPLE-RADIUS=500;X-TITLE=975 Perry Avenue:geo:-92.251480558212,38.766329865225
END:VEVENT
BEGIN:VEVENT
DTSTART;VALUE=DATE:20260216
DTEND;VALUE=DATE:20260217
DTSTAMP:20260420T050507
CREATED:20250513T164507Z
LAST-MODIFIED:20250513T164507Z
UID:10000982-1771200000-1771286399@ranken.edu
SUMMARY:All School Holiday (President's Day)
DESCRIPTION:All School Holiday (President’s Day). All locations closed. No classes in session.
URL:https://ranken.edu/event/all-school-holiday-presidents-day-2/
LOCATION:Ranken – Central MO\, 975 Perry Avenue\, Ashland\, MO\, 65010\, United States
CATEGORIES:Ranken Southeast,Ranken Central MO,All School Holidays,Ranken's Calendar,Student Events,Ranken St. Louis,Ranken West
ATTACH;FMTTYPE=image/png:https://ranken.edu/wp-content/uploads/2024/05/Calendar-Presidents-Day.png
GEO:38.766329865225;-92.251480558212
X-APPLE-STRUCTURED-LOCATION;VALUE=URI;X-ADDRESS=Ranken – Central MO 975 Perry Avenue Ashland MO 65010 United States;X-APPLE-RADIUS=500;X-TITLE=975 Perry Avenue:geo:-92.251480558212,38.766329865225
END:VEVENT
BEGIN:VEVENT
DTSTART;VALUE=DATE:20260119
DTEND;VALUE=DATE:20260120
DTSTAMP:20260420T050507
CREATED:20250512T193816Z
LAST-MODIFIED:20250512T193816Z
UID:10000977-1768780800-1768867199@ranken.edu
SUMMARY:All School Holiday (Martin Luther King Jr. Day)
DESCRIPTION:All School Holiday (Martin Luther King Jr. Day). All locations closed. No classes in session.
URL:https://ranken.edu/event/all-school-holiday-martin-luther-king-jr-day-2/
LOCATION:Ranken – Central MO\, 975 Perry Avenue\, Ashland\, MO\, 65010\, United States
CATEGORIES:Ranken Southeast,Ranken Central MO,All School Holidays,Ranken's Calendar,Student Events,Ranken St. Louis,Ranken West
ATTACH;FMTTYPE=image/png:https://ranken.edu/wp-content/uploads/2024/05/Calendar-MLK-Day.png
GEO:38.766329865225;-92.251480558212
X-APPLE-STRUCTURED-LOCATION;VALUE=URI;X-ADDRESS=Ranken – Central MO 975 Perry Avenue Ashland MO 65010 United States;X-APPLE-RADIUS=500;X-TITLE=975 Perry Avenue:geo:-92.251480558212,38.766329865225
END:VEVENT
BEGIN:VEVENT
DTSTART;VALUE=DATE:20251223
DTEND;VALUE=DATE:20260102
DTSTAMP:20260420T050507
CREATED:20250512T190053Z
LAST-MODIFIED:20251211T181931Z
UID:10000968-1766448000-1767311999@ranken.edu
SUMMARY:All School Holiday
DESCRIPTION:All School Holiday. All locations closed.
URL:https://ranken.edu/event/all-school-holiday-4/
LOCATION:Ranken – Central MO\, 975 Perry Avenue\, Ashland\, MO\, 65010\, United States
CATEGORIES:Ranken Central MO,All School Holidays,Ranken's Calendar,Ranken St. Louis,Ranken West,Ranken Southeast
ATTACH;FMTTYPE=image/png:https://ranken.edu/wp-content/uploads/2024/05/Calendar-Christmas.png
GEO:38.766329865225;-92.251480558212
X-APPLE-STRUCTURED-LOCATION;VALUE=URI;X-ADDRESS=Ranken – Central MO 975 Perry Avenue Ashland MO 65010 United States;X-APPLE-RADIUS=500;X-TITLE=975 Perry Avenue:geo:-92.251480558212,38.766329865225
END:VEVENT
BEGIN:VEVENT
DTSTART;VALUE=DATE:20251127
DTEND;VALUE=DATE:20251129
DTSTAMP:20260420T050507
CREATED:20250512T172028Z
LAST-MODIFIED:20250512T172028Z
UID:10000954-1764201600-1764374399@ranken.edu
SUMMARY:All School Holiday (Thanksgiving)
DESCRIPTION:All School Holiday (Thanksgiving). All locations closed. No classes in session.
URL:https://ranken.edu/event/all-school-holiday-thanksgiving-3/
LOCATION:Ranken – Central MO\, 975 Perry Avenue\, Ashland\, MO\, 65010\, United States
CATEGORIES:Ranken Southeast,Ranken Central MO,All School Holidays,Ranken's Calendar,Student Events,Ranken St. Louis,Ranken West
ATTACH;FMTTYPE=image/png:https://ranken.edu/wp-content/uploads/2024/04/Calendar-Thanksgiving.png
GEO:38.766329865225;-92.251480558212
X-APPLE-STRUCTURED-LOCATION;VALUE=URI;X-ADDRESS=Ranken – Central MO 975 Perry Avenue Ashland MO 65010 United States;X-APPLE-RADIUS=500;X-TITLE=975 Perry Avenue:geo:-92.251480558212,38.766329865225
END:VEVENT
BEGIN:VEVENT
DTSTART;VALUE=DATE:20251111
DTEND;VALUE=DATE:20251112
DTSTAMP:20260420T050507
CREATED:20250512T164700Z
LAST-MODIFIED:20250512T164746Z
UID:10000951-1762819200-1762905599@ranken.edu
SUMMARY:All School Holiday (Veteran's Day)
DESCRIPTION:All School Holiday (Veteran’s Day). All locations closed. No classes are in session.
URL:https://ranken.edu/event/all-school-holiday-veterans-day-2/
LOCATION:Ranken – Central MO\, 975 Perry Avenue\, Ashland\, MO\, 65010\, United States
CATEGORIES:Ranken Southeast,Ranken Central MO,All School Holidays,Ranken's Calendar,Student Events,Ranken St. Louis,Ranken West
ATTACH;FMTTYPE=image/png:https://ranken.edu/wp-content/uploads/2025/05/Calendar-Veterans-Day.png
GEO:38.766329865225;-92.251480558212
X-APPLE-STRUCTURED-LOCATION;VALUE=URI;X-ADDRESS=Ranken – Central MO 975 Perry Avenue Ashland MO 65010 United States;X-APPLE-RADIUS=500;X-TITLE=975 Perry Avenue:geo:-92.251480558212,38.766329865225
END:VEVENT
BEGIN:VEVENT
DTSTART;VALUE=DATE:20250901
DTEND;VALUE=DATE:20250902
DTSTAMP:20260420T050507
CREATED:20250512T145606Z
LAST-MODIFIED:20250512T202359Z
UID:10000934-1756684800-1756771199@ranken.edu
SUMMARY:All School Holiday (Labor Day)
DESCRIPTION:All School Holiday (Labor Day). All locations closed. No classes in session.
URL:https://ranken.edu/event/all-school-holiday-labor-day-2/
LOCATION:Ranken – Central MO\, 975 Perry Avenue\, Ashland\, MO\, 65010\, United States
CATEGORIES:Ranken Central MO,All School Holidays,Ranken's Calendar,Ranken St. Louis,Ranken West,Ranken Southeast
ATTACH;FMTTYPE=image/png:https://ranken.edu/wp-content/uploads/2024/05/Calendar-labor-day.png
GEO:38.766329865225;-92.251480558212
X-APPLE-STRUCTURED-LOCATION;VALUE=URI;X-ADDRESS=Ranken – Central MO 975 Perry Avenue Ashland MO 65010 United States;X-APPLE-RADIUS=500;X-TITLE=975 Perry Avenue:geo:-92.251480558212,38.766329865225
END:VEVENT
BEGIN:VEVENT
DTSTART;VALUE=DATE:20250620
DTEND;VALUE=DATE:20250621
DTSTAMP:20260420T050507
CREATED:20250602T141407Z
LAST-MODIFIED:20250602T175722Z
UID:10001041-1750377600-1750463999@ranken.edu
SUMMARY:All Locations Closed
DESCRIPTION:All locations are closed. No classes in session.
URL:https://ranken.edu/event/all-school-holiday-5/
LOCATION:Ranken – Central MO\, 975 Perry Avenue\, Ashland\, MO\, 65010\, United States
CATEGORIES:Ranken Southeast,Ranken Central MO,All School Holidays,Ranken's Calendar,Student Events,Ranken St. Louis,Ranken West
ATTACH;FMTTYPE=image/png:https://ranken.edu/wp-content/uploads/2024/04/Default-Calendar.png
GEO:38.766329865225;-92.251480558212
X-APPLE-STRUCTURED-LOCATION;VALUE=URI;X-ADDRESS=Ranken – Central MO 975 Perry Avenue Ashland MO 65010 United States;X-APPLE-RADIUS=500;X-TITLE=975 Perry Avenue:geo:-92.251480558212,38.766329865225
END:VEVENT
BEGIN:VEVENT
DTSTART;VALUE=DATE:20250526
DTEND;VALUE=DATE:20250527
DTSTAMP:20260420T050507
CREATED:20240530T195146Z
LAST-MODIFIED:20250512T145724Z
UID:10000835-1748217600-1748303999@ranken.edu
SUMMARY:All School Holiday (Memorial Day)
DESCRIPTION:No classes are in session. All locations will be closed in honor of Memorial Day.
URL:https://ranken.edu/event/all-school-holiday-memorial-day-2/
LOCATION:Ranken – Southeast\, 1907 N. Perryville Blvd.\, Perryville\, MO\, 63775\, United States
CATEGORIES:Ranken Southeast,Ranken Central MO,All School Holidays,Ranken's Calendar,Student Events,Ranken St. Louis,Ranken West
ATTACH;FMTTYPE=image/png:https://ranken.edu/wp-content/uploads/2024/04/Calendar-memorial-day.png
GEO:37.7489957;-89.8765769
X-APPLE-STRUCTURED-LOCATION;VALUE=URI;X-ADDRESS=Ranken – Southeast 1907 N. Perryville Blvd. Perryville MO 63775 United States;X-APPLE-RADIUS=500;X-TITLE=1907 N. Perryville Blvd.:geo:-89.8765769,37.7489957
END:VEVENT
END:VCALENDAR