BEGIN:VCALENDAR
VERSION:2.0
PRODID:-//Ranken Technical College - ECPv6.15.20//NONSGML v1.0//EN
CALSCALE:GREGORIAN
METHOD:PUBLISH
X-ORIGINAL-URL:https://ranken.edu
X-WR-CALDESC:Events for Ranken Technical College
REFRESH-INTERVAL;VALUE=DURATION:PT1H
X-Robots-Tag:noindex
X-PUBLISHED-TTL:PT1H
BEGIN:VTIMEZONE
TZID:America/Chicago
BEGIN:DAYLIGHT
TZOFFSETFROM:-0600
TZOFFSETTO:-0500
TZNAME:CDT
DTSTART:20250309T080000
END:DAYLIGHT
BEGIN:STANDARD
TZOFFSETFROM:-0500
TZOFFSETTO:-0600
TZNAME:CST
DTSTART:20251102T070000
END:STANDARD
BEGIN:DAYLIGHT
TZOFFSETFROM:-0600
TZOFFSETTO:-0500
TZNAME:CDT
DTSTART:20260308T080000
END:DAYLIGHT
BEGIN:STANDARD
TZOFFSETFROM:-0500
TZOFFSETTO:-0600
TZNAME:CST
DTSTART:20261101T070000
END:STANDARD
BEGIN:DAYLIGHT
TZOFFSETFROM:-0600
TZOFFSETTO:-0500
TZNAME:CDT
DTSTART:20270314T080000
END:DAYLIGHT
BEGIN:STANDARD
TZOFFSETFROM:-0500
TZOFFSETTO:-0600
TZNAME:CST
DTSTART:20271107T070000
END:STANDARD
END:VTIMEZONE
BEGIN:VEVENT
DTSTART;VALUE=DATE:20260305
DTEND;VALUE=DATE:20260306
DTSTAMP:20260420T054232
CREATED:20250513T172131Z
LAST-MODIFIED:20260108T221721Z
UID:10000990-1772668800-1772755199@ranken.edu
SUMMARY:Future Builders: Middle School Exploration Day
DESCRIPTION:Future Builders\nA Middle School Exploration Day\nAn Immersive Tour of Ranken Technical College for 6th-8th Graders\nWith hands-on learning stations\, students will gain exposure to careers within Ranken’s 5 core divisions: Automotive\, Construction\, Electrical\, IT\, and Manufacturing. \nContact Ranken Admissions to inquire about participating in this event.\nadmissions@ranken.edu | 314-286-4809
URL:https://ranken.edu/event/future-builders-middle-school-exploration-day-2/
LOCATION:MO
CATEGORIES:Admissions
ATTACH;FMTTYPE=image/png:https://ranken.edu/wp-content/uploads/2025/05/BYF-1.png
ORGANIZER;CN="Admissions Office":MAILTO:admissions@ranken.edu
END:VEVENT
END:VCALENDAR