BEGIN:VCALENDAR
VERSION:2.0
PRODID:-//Ranken Technical College - ECPv6.15.20//NONSGML v1.0//EN
CALSCALE:GREGORIAN
METHOD:PUBLISH
X-ORIGINAL-URL:https://ranken.edu
X-WR-CALDESC:Events for Ranken Technical College
REFRESH-INTERVAL;VALUE=DURATION:PT1H
X-Robots-Tag:noindex
X-PUBLISHED-TTL:PT1H
BEGIN:VTIMEZONE
TZID:America/Chicago
BEGIN:DAYLIGHT
TZOFFSETFROM:-0600
TZOFFSETTO:-0500
TZNAME:CDT
DTSTART:20250309T080000
END:DAYLIGHT
BEGIN:STANDARD
TZOFFSETFROM:-0500
TZOFFSETTO:-0600
TZNAME:CST
DTSTART:20251102T070000
END:STANDARD
BEGIN:DAYLIGHT
TZOFFSETFROM:-0600
TZOFFSETTO:-0500
TZNAME:CDT
DTSTART:20260308T080000
END:DAYLIGHT
BEGIN:STANDARD
TZOFFSETFROM:-0500
TZOFFSETTO:-0600
TZNAME:CST
DTSTART:20261101T070000
END:STANDARD
BEGIN:DAYLIGHT
TZOFFSETFROM:-0600
TZOFFSETTO:-0500
TZNAME:CDT
DTSTART:20270314T080000
END:DAYLIGHT
BEGIN:STANDARD
TZOFFSETFROM:-0500
TZOFFSETTO:-0600
TZNAME:CST
DTSTART:20271107T070000
END:STANDARD
END:VTIMEZONE
BEGIN:VEVENT
DTSTART;VALUE=DATE:20260305
DTEND;VALUE=DATE:20260306
DTSTAMP:20260420T021931
CREATED:20250513T172131Z
LAST-MODIFIED:20260108T221721Z
UID:10000990-1772668800-1772755199@ranken.edu
SUMMARY:Future Builders: Middle School Exploration Day
DESCRIPTION:Future Builders\nA Middle School Exploration Day\nAn Immersive Tour of Ranken Technical College for 6th-8th Graders\nWith hands-on learning stations\, students will gain exposure to careers within Ranken’s 5 core divisions: Automotive\, Construction\, Electrical\, IT\, and Manufacturing. \nContact Ranken Admissions to inquire about participating in this event.\nadmissions@ranken.edu | 314-286-4809
URL:https://ranken.edu/event/future-builders-middle-school-exploration-day-2/
LOCATION:MO
CATEGORIES:Admissions
ATTACH;FMTTYPE=image/png:https://ranken.edu/wp-content/uploads/2025/05/BYF-1.png
ORGANIZER;CN="Admissions Office":MAILTO:admissions@ranken.edu
END:VEVENT
BEGIN:VEVENT
DTSTART;TZID=America/Chicago:20260324T083000
DTEND;TZID=America/Chicago:20260324T130000
DTSTAMP:20260420T021931
CREATED:20250513T173217Z
LAST-MODIFIED:20260108T163101Z
UID:10000993-1774341000-1774357200@ranken.edu
SUMMARY:Automotive Day (Main Campus)
DESCRIPTION:Automotive Day
URL:https://ranken.edu/event/automotive-day-2026/
LOCATION:Ranken – St. Louis\, 4431 Finney Avenue\, St. Louis\, MO\, 63113\, United States
CATEGORIES:Ranken's Calendar,Student Events,Admissions,Ranken St. Louis
ATTACH;FMTTYPE=image/png:https://ranken.edu/wp-content/uploads/2024/06/Calendar-Automotive-Day.png
ORGANIZER;CN="Admissions Office":MAILTO:admissions@ranken.edu
GEO:38.6532031;-90.248516
X-APPLE-STRUCTURED-LOCATION;VALUE=URI;X-ADDRESS=Ranken – St. Louis 4431 Finney Avenue St. Louis MO 63113 United States;X-APPLE-RADIUS=500;X-TITLE=4431 Finney Avenue:geo:-90.248516,38.6532031
END:VEVENT
BEGIN:VEVENT
DTSTART;TZID=America/Chicago:20260331T160000
DTEND;TZID=America/Chicago:20260331T180000
DTSTAMP:20260420T021931
CREATED:20260218T144738Z
LAST-MODIFIED:20260312T184554Z
UID:10001165-1774972800-1774980000@ranken.edu
SUMMARY:Open House at Schneider Diesel Facility
DESCRIPTION:Get a First Look at Ranken’s New Diesel Program\n  \nRanken is expanding its Diesel Technology program to a new location in Fall 2026—and you’re invited to be among the first to see it in action! Pre-registration is required for this event. \nRSVP Today! \nJoin us for a special open house at Schneider’s diesel maintenance facility in Edwardsville\, IL\, where you’ll get an inside look at the environment\, equipment\, and industry partnership shaping this exciting new opportunity. \nEvent Details \nDate: Tuesday\, March 31\nTime: 4pm-6pm\nLocation: Schneider (141 Enterprise Dr\, Edwardsville\, IL 62025)\nALL GUESTS MUST BE AGE 15 OR OLDER TO ATTEND. \nOpen to high school students exploring hands-on careers in Diesel Truck Repair\, parents of prospective students\, career changers\, and media representatives\, as well as Ranken stakeholders\, faculty\, and staff. \nWhat to Expect: \n\nExplore the facility: See where hands-on learning meets industry demand\nMeet Ranken faculty: Connect with the instructors who will lead the program\nLearn about the new Diesel Technology program: Discover how industry-aligned training prepares students for high-demand careers\n\n 
URL:https://ranken.edu/event/open-house-at-schneider-diesel-facility/
LOCATION:MO
CATEGORIES:Ranken's Calendar,Admissions,Ranken St. Louis,Open House
ATTACH;FMTTYPE=image/jpeg:https://ranken.edu/wp-content/uploads/2026/02/P9A9887-scaled-e1771522967196.jpg
END:VEVENT
END:VCALENDAR